BEGIN:VCALENDAR
VERSION:2.0
PRODID:-//Naturist Association Thailand - ECPv6.15.18//NONSGML v1.0//EN
CALSCALE:GREGORIAN
METHOD:PUBLISH
X-ORIGINAL-URL:https://thailandnaturist.com
X-WR-CALDESC:Events for Naturist Association Thailand
REFRESH-INTERVAL;VALUE=DURATION:PT1H
X-Robots-Tag:noindex
X-PUBLISHED-TTL:PT1H
BEGIN:VTIMEZONE
TZID:Asia/Bangkok
BEGIN:STANDARD
TZOFFSETFROM:+0700
TZOFFSETTO:+0700
TZNAME:+07
DTSTART:20240101T000000
END:STANDARD
END:VTIMEZONE
BEGIN:VEVENT
DTSTART;VALUE=DATE:20250501
DTEND;VALUE=DATE:20250505
DTSTAMP:20260422T185147
CREATED:20250214T035759Z
LAST-MODIFIED:20250416T144515Z
UID:10000420-1746057600-1746403199@thailandnaturist.com
SUMMARY:NATCON25 - 3 nights - 4 days international event
DESCRIPTION:NATCON’25 has already attracted over 80 participants from 16 countries\, including India\, Australia\, Malaysia\, China\, Thailand\, and more. They have booked their tickets and are preparing to gather in Thailand from 1-4 May 2025. But we want to be well over 100 participants! \nCheck out the location! Purimas Beach Hotel & Spa\, Rayong\, Thailand. \nDon’t miss out on this exciting opportunity—come and be part of an unforgettable naturist experience! As the host country\, Thailand wants to see strong representation from Asia and around the World!\nLet’s show the world the spirit of NATCON! \n  \nNATCON 2025 Accommodation Options\nPrivate Room (1 Person) – book here!\nPrivate Room (2 Persons) – book here!\nShared Room (Individual Bed\, 2 Persons/Room) – book here!\nDormitory Bed (4 Persons/Room) – book here! \nAll options: https://thailandnaturist.com/natshop/ \n  \nProgram\n\nDay 1: Thursday 1 May 2025\n\n14:30 – Welcome reception\n15:00 – Ice breaker event – get to know each other – first games (Leader: Muthu)\n\nTeam Formation\nChain Game\nBaloon Burst\n\n\n17:30 – Free time\, pool time\n18:30 – Meditation at sunset (Leader: Tushar)\n19:00 – Dinner together\n19:30 – First pool party starts\, music\, party games (We need party music playlists!)\n22:00 – Good night\n\nDay 2: Friday 2 May 2025\n\n07:00 – Yoga at sunrise (Leader: Tushar)\n08:00 – Breakfast\n09:00 – Classic NATCON games (Leader: Muthu)\n\nDuck Race\nTug of War\nEgg Throwing\nSack Race\n\n\n11:30 – Break\n\n\n\nOption 1: Outing by Bus (additional cost)\n\n12:00 – 17:00 – Trip to visit Nong Nooch Botanical Garden\, a popular non-naturist destination for Pattaya tourists with lunch at the garden. (Tour Leader: Robin Handleman)\n17:00 – Return to Purimas\n\n\n\nOption 2: Workshops at Purimas\n\n12:00 – 13:00 – Lunch at Purimas\n13:00 – 14:00 – Naturism in Asia – A brief presentation of the current situation country by country followed by a discussion how we can further expand naturism and accelerate the acceptance of our lifestyle across this continent.\nPanelists:\nThailand – Gregers\nMalaysia – Chew\nIndia – Muthu\nAustralia – Mick\nTaiwan – ?\nChina – ?\nMore ?\n14:00 – 15:00 – The Naturist Family – Discussion on naturism in relationships with children\, family dynamics in Asian cultures\, and how naturism can be embraced within the context of family values. Practical tips and strategies on talking about naturism with children\, friends\, and society.\nLeader: Paul Wannop\nSponsored by George Vathiath\n15:00 – 16:00 – Nude Photography and Modelling – Nude photography\, nude modeling\, emphasizing the artistry and aesthetics. Also open for nude drawing/sketching.\nLeaders: Dao\, Tushar\, Joyshekar regarding photos and Mianpao assisting regarding posing.\nSponsored by: ?\n16:00 – 17:00 – Thai Massage Basics – Hands-On Workshop introducing massage techniques focused on relaxation and well-being in a naturist-friendly setting. Sharing of participants’ techniques while respecting privacy and consent.\nLeaders: Tushar\, Chew\nSponsored by: ?\n\n\n\n\n17:00 – Quiz (Leader: Tushar)\n17:00 – Happy Hour\n18:30 – Meditation at sunset (Leader: Tushar)\n19:00 – Dinner together\n19:45 – Winner announcements (Leaders: Muthu and Tushar)\n20:00 – Second pool party (We need party music playlists!)\n\nMusical Chairs\n\n\n22:00 – Good night\n\nDay 3: Saturday 3 May 2025\n\n07:00 – Yoga at sunrise (Leader: Tushar)\n08:00 – Breakfast\n09:00 – New fun NATCON games (Leader: Muthu)\n\n4/1\nLeft or Right\nFlip the Cups\nHead/Shoulder/Knee/Feet/Cup\nBody Painting with a Cat Walk (Like a Fashion Show)\n\n\n11:45 – Group Photo (Leader: Dao\, Tushar\, Joyshekhar)\n\n\n\nOption 1: Outing by Bus (additional cost)\n\n12:00 – 18:00 – Bus to naturist boat trip with simple lunch and nude snorkeling near an island Tour Leader: Ram Kumar\n18:00 – Return to Purimas\n\n\n\nOption 2: Workshops at Purimas\n\n12:00 – 13:00 – Lunch at Purimas\n13:00 – 15:00 – Authentic Relating – Helping participants develop deeper connections with themselves\, allowing you to understand and accept your full self better. How to create a safe space to explore your vulnerability\, to express your authentic self and enhance empathy towards others.\nLeader: Cam ‘The Purple Fairy’\nSponsored by: NAT\n15:00 – 16:00 – Cooking and Naturism – Combining Ayurvedic principles with naturist wellness. There will be a demo with a simple dish and a frying pan.\nLeader: Tushar\nParticipants will also prepare spring rolls\, which will be fried and served for dinner.\nLeader: ?\nSponsored by: ?\n16:00 – 17:00 – Body Image and Naturism – We are constantly exposed to unrealistic beauty standards\, fostering a negative body image. Naturism offers body acceptance and a healthier connection with yourself and others.\nLeader: Robin Handleman\nSponsored by: ?\n17:00 – 18:00 – Square Dancing – Learn the basics of Square Dance and prepare a small performance for the Pool Party after dinner. Leader: We need a leader for this!\nSponsored by: ?\n\n\n\n\n18:00 – Happy Hour\n18:30 – Meditation at sunset (Leader: Tushar)\n19:00 – Dinner together\n19:30 – Winners of the day (Leader: Muthu)\n20:00 – Third pool party (We need party music playlists!)\n22:00 – Good night\n\nDay 4: Sunday 4 May 2025\n\n07:00 – Yoga at sunrise (Leader: Tushar)\n08:00 – Breakfast\n09:00 – Games Finals (Leader: Muthu)\n\nTug of War\nEgg Throwing\n\n\n10:00 – Farewell – Planting of NATCON25 tree (Leader: Gregers)\n11:30 – Packing up\n12:00 – Check-out and departure\n\nCome and join NATCON’25\, meet new friends from around the world\, and enjoy an unforgettable naturist experience! \n  \nRefund policy / Cancellation policy\nWe understand that plans may change\, and we aim to offer flexibility with the option to receive refunds in cash or in NATCoins\, the unique digital currency of Naturist Association Thailand. Please ensure you review and understand these terms when considering cancellations. \nRefund: \n\nBefore 31 March: 100%\n1 – 7 April: 50% (or 70% in NATCOINS)\n8 – 14 April: 40% (or 50% in NATCOINS)\n15 – 21 April: 20% (or 30% in NATCOINS\n22 April and onwards: 0%
URL:https://thailandnaturist.com/event/natcon25-3-nights-4-days-international-event/
LOCATION:Purimas Beach Hotel and Spa\, Purimas Beach Hotel & Spa\, 34 Payoon - Namrin Road\, Banchang\,\, Rayong\, Rayong\, 21130\, Thailand
ATTACH;FMTTYPE=image/jpeg:https://thailandnaturist.com/wp-content/uploads/2025/02/5fcc9b3146e306277b52bd250705acdb-1.jpg
ORGANIZER;CN="Naturist Association Thailand":MAILTO:info@thailandnaturist.com
END:VEVENT
END:VCALENDAR