BEGIN:VCALENDAR
VERSION:2.0
PRODID:-//Naturist Association Thailand - ECPv6.15.18//NONSGML v1.0//EN
CALSCALE:GREGORIAN
METHOD:PUBLISH
X-ORIGINAL-URL:https://thailandnaturist.com
X-WR-CALDESC:Events for Naturist Association Thailand
REFRESH-INTERVAL;VALUE=DURATION:PT1H
X-Robots-Tag:noindex
X-PUBLISHED-TTL:PT1H
BEGIN:VTIMEZONE
TZID:Asia/Bangkok
BEGIN:STANDARD
TZOFFSETFROM:+0700
TZOFFSETTO:+0700
TZNAME:+07
DTSTART:20210101T000000
END:STANDARD
END:VTIMEZONE
BEGIN:VEVENT
DTSTART;TZID=Asia/Bangkok:20230101T183000
DTEND;TZID=Asia/Bangkok:20230101T213000
DTSTAMP:20260424T030332
CREATED:20221204T152728Z
LAST-MODIFIED:20221204T154621Z
UID:10000168-1672597800-1672608600@thailandnaturist.com
SUMMARY:New Year Dinner @ Peace Blue Naiharn Naturist Resort Phuket
DESCRIPTION:
URL:https://thailandnaturist.com/event/new-year-dinner-peace-blue-naiharn/
LOCATION:Peace Blue Naiharn Naturist Resort\, Phuket\, Peace Blue Naiharn Naturist Resort Phuket\, 69 93 Soi Kokyang\, Rawai\, Mueang Phuket District\, Phuket\, Phuket\, 83100\, Thailand
ATTACH;FMTTYPE=image/jpeg:https://thailandnaturist.com/wp-content/uploads/2022/12/New-Year-dinner-scaled.jpg
ORGANIZER;CN="Peace Blue Naiharn Naturist Resort Phuket":MAILTO:info@peaceblueresortphuket.com
GEO:7.7909828;98.3192316
X-APPLE-STRUCTURED-LOCATION;VALUE=URI;X-ADDRESS=Peace Blue Naiharn Naturist Resort Phuket Peace Blue Naiharn Naturist Resort Phuket 69 93 Soi Kokyang Rawai Mueang Phuket District Phuket Phuket 83100 Thailand;X-APPLE-RADIUS=500;X-TITLE=Peace Blue Naiharn Naturist Resort Phuket\, 69 93 Soi Kokyang\, Rawai\, Mueang Phuket District:geo:98.3192316,7.7909828
END:VEVENT
BEGIN:VEVENT
DTSTART;TZID=Asia/Bangkok:20221231T183000
DTEND;TZID=Asia/Bangkok:20221231T235900
DTSTAMP:20260424T030332
CREATED:20221204T155154Z
LAST-MODIFIED:20221204T155155Z
UID:10000171-1672511400-1672531140@thailandnaturist.com
SUMMARY:New Year Party @ Peace Blue Naiharn Naturist Resort Phuket
DESCRIPTION:
URL:https://thailandnaturist.com/event/new-year-party-peace-blue-naiharn-naturist-resort-phuket/
LOCATION:Peace Blue Naiharn Naturist Resort\, Phuket\, Peace Blue Naiharn Naturist Resort Phuket\, 69 93 Soi Kokyang\, Rawai\, Mueang Phuket District\, Phuket\, Phuket\, 83100\, Thailand
ATTACH;FMTTYPE=image/jpeg:https://thailandnaturist.com/wp-content/uploads/2022/12/NewYear-scaled.jpg
ORGANIZER;CN="Peace Blue Naiharn Naturist Resort Phuket":MAILTO:info@peaceblueresortphuket.com
GEO:7.7909828;98.3192316
X-APPLE-STRUCTURED-LOCATION;VALUE=URI;X-ADDRESS=Peace Blue Naiharn Naturist Resort Phuket Peace Blue Naiharn Naturist Resort Phuket 69 93 Soi Kokyang Rawai Mueang Phuket District Phuket Phuket 83100 Thailand;X-APPLE-RADIUS=500;X-TITLE=Peace Blue Naiharn Naturist Resort Phuket\, 69 93 Soi Kokyang\, Rawai\, Mueang Phuket District:geo:98.3192316,7.7909828
END:VEVENT
BEGIN:VEVENT
DTSTART;TZID=Asia/Bangkok:20221225T180000
DTEND;TZID=Asia/Bangkok:20221225T220000
DTSTAMP:20260424T030332
CREATED:20221204T154423Z
LAST-MODIFIED:20221204T154423Z
UID:10000170-1671991200-1672005600@thailandnaturist.com
SUMMARY:Christmas Day Dinner @ Peace Blue Naiharn Naturist Resort Phuket
DESCRIPTION:
URL:https://thailandnaturist.com/event/christmas-day-dinner-peace-blue-naiharn-naturist-resort-phuket/
LOCATION:Peace Blue Naiharn Naturist Resort\, Phuket\, Peace Blue Naiharn Naturist Resort Phuket\, 69 93 Soi Kokyang\, Rawai\, Mueang Phuket District\, Phuket\, Phuket\, 83100\, Thailand
ATTACH;FMTTYPE=image/jpeg:https://thailandnaturist.com/wp-content/uploads/2022/12/Christmas-scaled.jpg
ORGANIZER;CN="Peace Blue Naiharn Naturist Resort Phuket":MAILTO:info@peaceblueresortphuket.com
GEO:7.7909828;98.3192316
X-APPLE-STRUCTURED-LOCATION;VALUE=URI;X-ADDRESS=Peace Blue Naiharn Naturist Resort Phuket Peace Blue Naiharn Naturist Resort Phuket 69 93 Soi Kokyang Rawai Mueang Phuket District Phuket Phuket 83100 Thailand;X-APPLE-RADIUS=500;X-TITLE=Peace Blue Naiharn Naturist Resort Phuket\, 69 93 Soi Kokyang\, Rawai\, Mueang Phuket District:geo:98.3192316,7.7909828
END:VEVENT
BEGIN:VEVENT
DTSTART;TZID=Asia/Bangkok:20221224T180000
DTEND;TZID=Asia/Bangkok:20221224T220000
DTSTAMP:20260424T030332
CREATED:20221204T154208Z
LAST-MODIFIED:20221204T154820Z
UID:10000169-1671904800-1671919200@thailandnaturist.com
SUMMARY:Christmas Eve Dinner @ Peace Blue Naiharn Naturist Resort Phuket
DESCRIPTION:
URL:https://thailandnaturist.com/event/christmas-eve-dinner-peace-blue-naiharn-naturist-resort-phuket/
LOCATION:Peace Blue Naiharn Naturist Resort\, Phuket\, Peace Blue Naiharn Naturist Resort Phuket\, 69 93 Soi Kokyang\, Rawai\, Mueang Phuket District\, Phuket\, Phuket\, 83100\, Thailand
ATTACH;FMTTYPE=image/jpeg:https://thailandnaturist.com/wp-content/uploads/2022/12/Christmas-scaled.jpg
ORGANIZER;CN="Peace Blue Naiharn Naturist Resort Phuket":MAILTO:info@peaceblueresortphuket.com
GEO:7.7909828;98.3192316
X-APPLE-STRUCTURED-LOCATION;VALUE=URI;X-ADDRESS=Peace Blue Naiharn Naturist Resort Phuket Peace Blue Naiharn Naturist Resort Phuket 69 93 Soi Kokyang Rawai Mueang Phuket District Phuket Phuket 83100 Thailand;X-APPLE-RADIUS=500;X-TITLE=Peace Blue Naiharn Naturist Resort Phuket\, 69 93 Soi Kokyang\, Rawai\, Mueang Phuket District:geo:98.3192316,7.7909828
END:VEVENT
END:VCALENDAR