BEGIN:VCALENDAR
VERSION:2.0
PRODID:-//Naturist Association Thailand - ECPv6.15.18//NONSGML v1.0//EN
CALSCALE:GREGORIAN
METHOD:PUBLISH
X-WR-CALNAME:Naturist Association Thailand
X-ORIGINAL-URL:https://thailandnaturist.com
X-WR-CALDESC:Events for Naturist Association Thailand
REFRESH-INTERVAL;VALUE=DURATION:PT1H
X-Robots-Tag:noindex
X-PUBLISHED-TTL:PT1H
BEGIN:VTIMEZONE
TZID:Asia/Bangkok
BEGIN:STANDARD
TZOFFSETFROM:+0700
TZOFFSETTO:+0700
TZNAME:+07
DTSTART:20200101T000000
END:STANDARD
END:VTIMEZONE
BEGIN:VEVENT
DTSTART;TZID=Asia/Bangkok:20211119T130000
DTEND;TZID=Asia/Bangkok:20211119T170000
DTSTAMP:20260422T235942
CREATED:20211111T211644Z
LAST-MODIFIED:20211111T212421Z
UID:10000002-1637326800-1637341200@thailandnaturist.com
SUMMARY:Afternoon @ Will's Place
DESCRIPTION:Will invites members to join an afternoon around his pool at Mango House Gardens in Cha-am. \nLocation is in Khao Yai area Cha-am district and can be found on google maps. http://www.mangohousegardens.com \n 
URL:https://thailandnaturist.com/event/afternoon-wills-place/
LOCATION:Mango House Gardens\, Cha-am
ATTACH;FMTTYPE=image/png:https://thailandnaturist.com/wp-content/uploads/2021/11/mango-house.png
END:VEVENT
END:VCALENDAR