BEGIN:VCALENDAR
VERSION:2.0
PRODID:-//Naturist Association Thailand - ECPv6.15.18//NONSGML v1.0//EN
CALSCALE:GREGORIAN
METHOD:PUBLISH
X-ORIGINAL-URL:https://thailandnaturist.com
X-WR-CALDESC:Events for Naturist Association Thailand
REFRESH-INTERVAL;VALUE=DURATION:PT1H
X-Robots-Tag:noindex
X-PUBLISHED-TTL:PT1H
BEGIN:VTIMEZONE
TZID:Asia/Bangkok
BEGIN:STANDARD
TZOFFSETFROM:+0700
TZOFFSETTO:+0700
TZNAME:+07
DTSTART:20210101T000000
END:STANDARD
END:VTIMEZONE
BEGIN:VEVENT
DTSTART;TZID=Asia/Bangkok:20240915T160000
DTEND;TZID=Asia/Bangkok:20240915T210000
DTSTAMP:20260423T042812
CREATED:20240905T054937Z
LAST-MODIFIED:20240910T121831Z
UID:10000400-1726416000-1726434000@thailandnaturist.com
SUMMARY:Chan Resort 12 Year Anniversary Party
DESCRIPTION:The ticket price is 600 Baht per participant. Register on the form above. The party will start 4:00 pm until 9:00 pm. Food served around 6 pm. Draft beer served. \nAll members are invited to join the 12 Year Anniversary Party at Chan Resort in Pattaya on Sunday 15th September 2024. \nTickets are sold at the counter at Chan Resort on the evening itself\, but we need to know who will be joining. Please use the RSVP form above to inform Chan Resort that you will be coming.
URL:https://thailandnaturist.com/event/chan-resort-12-year-anniversary-party/
LOCATION:Chan Resort Pattaya\, Chan Resort\, 391/145 Thanon Thap Phraya\, Bang Lamung District\, Chon Buri 20150\, Pattaya\, Chonburi\, 20150\, Thailand
ATTACH;FMTTYPE=image/jpeg:https://thailandnaturist.com/wp-content/uploads/2024/09/Chan1.jpeg
ORGANIZER;CN="Chan Resort Pattaya":MAILTO:chanresort@gmail.com
GEO:12.910289;100.87449
X-APPLE-STRUCTURED-LOCATION;VALUE=URI;X-ADDRESS=Chan Resort Pattaya Chan Resort 391/145 Thanon Thap Phraya Bang Lamung District Chon Buri 20150 Pattaya Chonburi 20150 Thailand;X-APPLE-RADIUS=500;X-TITLE=Chan Resort\, 391/145 Thanon Thap Phraya\, Bang Lamung District\, Chon Buri 20150:geo:100.87449,12.910289
END:VEVENT
BEGIN:VEVENT
DTSTART;TZID=Asia/Bangkok:20221231T160000
DTEND;TZID=Asia/Bangkok:20230101T000000
DTSTAMP:20260423T042812
CREATED:20221230T025250Z
LAST-MODIFIED:20221230T025504Z
UID:10000174-1672502400-1672531200@thailandnaturist.com
SUMMARY:New Year Party @ Chan Resort
DESCRIPTION:
URL:https://thailandnaturist.com/event/new-year-party-chan-resort/
LOCATION:Chan Resort Pattaya\, Chan Resort\, 391/145 Thanon Thap Phraya\, Bang Lamung District\, Chon Buri 20150\, Pattaya\, Chonburi\, 20150\, Thailand
ATTACH;FMTTYPE=image/jpeg:https://thailandnaturist.com/wp-content/uploads/2021/07/chan-resort.jpeg
GEO:12.910289;100.87449
X-APPLE-STRUCTURED-LOCATION;VALUE=URI;X-ADDRESS=Chan Resort Pattaya Chan Resort 391/145 Thanon Thap Phraya Bang Lamung District Chon Buri 20150 Pattaya Chonburi 20150 Thailand;X-APPLE-RADIUS=500;X-TITLE=Chan Resort\, 391/145 Thanon Thap Phraya\, Bang Lamung District\, Chon Buri 20150:geo:100.87449,12.910289
END:VEVENT
BEGIN:VEVENT
DTSTART;TZID=Asia/Bangkok:20220709T120000
DTEND;TZID=Asia/Bangkok:20220709T200000
DTSTAMP:20260423T042812
CREATED:20220706T044957Z
LAST-MODIFIED:20220706T054117Z
UID:10000067-1657368000-1657396800@thailandnaturist.com
SUMMARY:BBQ evening at Chan Resort
DESCRIPTION:You are invited to join a member BBQ dinner at Chan Resort Pattaya this Saturday 9 July – the day before the Fishing Boat Trip on Sunday 10 July. You can also stay for the night if room is available. \nBBQ Dinner ที่ Chan Resort Pattaya ในวันเสาร์ที่ 9 กรกฎาคมนี้ – วันก่อนทริปล่องเรือตกปลาในวันอาทิตย์ที่ 10 กรกฎาคม คุณสามารถพักค้างคืนได้หากมีห้องว่าง \nPrice:\n600 THB  (buy tickets above) \nWhat is included: \nDay pass on Sat. 9 July for pool side relaxation from 12.00 noon  รวมเดย์วิสิทเวลา 12.00 น. เป็นต้นไป\nBBQ dinner Saturday evening 9 July บาร์บีคิวดินเนอร์เย็นวันเสาร์ที่ 9 ก.ค.\nIf you don’t want the BBQ\, the day fee is 300 THB. \n\nRoom if available:\n1700 THB (buy room above) \nBoat trip on Sunday (departure from pier at 8.45)\nplease book here.
URL:https://thailandnaturist.com/event/bbq-evening-at-chan-resort/
LOCATION:Chan Resort Pattaya\, Chan Resort\, 391/145 Thanon Thap Phraya\, Bang Lamung District\, Chon Buri 20150\, Pattaya\, Chonburi\, 20150\, Thailand
ATTACH;FMTTYPE=image/jpeg:https://thailandnaturist.com/wp-content/uploads/2021/12/chan2a.jpg
ORGANIZER;CN="Naturist Association Thailand":MAILTO:info@thailandnaturist.com
GEO:12.910289;100.87449
X-APPLE-STRUCTURED-LOCATION;VALUE=URI;X-ADDRESS=Chan Resort Pattaya Chan Resort 391/145 Thanon Thap Phraya Bang Lamung District Chon Buri 20150 Pattaya Chonburi 20150 Thailand;X-APPLE-RADIUS=500;X-TITLE=Chan Resort\, 391/145 Thanon Thap Phraya\, Bang Lamung District\, Chon Buri 20150:geo:100.87449,12.910289
END:VEVENT
BEGIN:VEVENT
DTSTART;TZID=Asia/Bangkok:20220129T180000
DTEND;TZID=Asia/Bangkok:20220129T220000
DTSTAMP:20260423T042812
CREATED:20211206T014002Z
LAST-MODIFIED:20220119T073434Z
UID:10000073-1643479200-1643493600@thailandnaturist.com
SUMMARY:BBQ @ Chan Resort
DESCRIPTION:This is a good chance to revisit Chan Resort and meet up again with friends from near and far for an evening with some good stuff from the grill. \nเรามีบาร์บีคิวยามเย็นแสนสบายที่ชาญรีสอร์ท  ก่อนไปล่องเรือในเช้าวันอาทิตย์ \nนี่เป็นโอกาสที่ดี ที่เราจะได้กลับมาที่ชาญรีสอร์ท และพบปะเพื่อนฝูงอีกครั้ง ทั้งเพื่อนที่อยู่ใกล้และไกล ในยามเย็นพร้อมทานอาหารอร่อยๆจากเตาปิ้งย่างร่วมกัน \n \n 
URL:https://thailandnaturist.com/event/bbq-chan-resort/
LOCATION:Chan Resort Pattaya\, Chan Resort\, 391/145 Thanon Thap Phraya\, Bang Lamung District\, Chon Buri 20150\, Pattaya\, Chonburi\, 20150\, Thailand
ATTACH;FMTTYPE=image/jpeg:https://thailandnaturist.com/wp-content/uploads/2021/12/chan2a.jpg
ORGANIZER;CN="Naturist Association Thailand":MAILTO:info@thailandnaturist.com
GEO:12.910289;100.87449
X-APPLE-STRUCTURED-LOCATION;VALUE=URI;X-ADDRESS=Chan Resort Pattaya Chan Resort 391/145 Thanon Thap Phraya Bang Lamung District Chon Buri 20150 Pattaya Chonburi 20150 Thailand;X-APPLE-RADIUS=500;X-TITLE=Chan Resort\, 391/145 Thanon Thap Phraya\, Bang Lamung District\, Chon Buri 20150:geo:100.87449,12.910289
END:VEVENT
END:VCALENDAR