BEGIN:VCALENDAR
VERSION:2.0
PRODID:-//Naturist Association Thailand - ECPv6.15.18//NONSGML v1.0//EN
CALSCALE:GREGORIAN
METHOD:PUBLISH
X-ORIGINAL-URL:https://thailandnaturist.com
X-WR-CALDESC:Events for Naturist Association Thailand
REFRESH-INTERVAL;VALUE=DURATION:PT1H
X-Robots-Tag:noindex
X-PUBLISHED-TTL:PT1H
BEGIN:VTIMEZONE
TZID:Asia/Bangkok
BEGIN:STANDARD
TZOFFSETFROM:+0700
TZOFFSETTO:+0700
TZNAME:+07
DTSTART:20250101T000000
END:STANDARD
END:VTIMEZONE
BEGIN:VEVENT
DTSTART;TZID=Asia/Bangkok:20260308T083000
DTEND;TZID=Asia/Bangkok:20260308T170000
DTSTAMP:20260422T182715
CREATED:20250607T110155Z
LAST-MODIFIED:20260302T131035Z
UID:10000444-1772958600-1772989200@thailandnaturist.com
SUMMARY:Speed Boat Island Trip from Pattaya: Cancelled
DESCRIPTION:Join our popular nude beach trip about 45 minutes off the coast from Pattaya! \nSchedule of the trip \n9:00  meet and register at the cafe to the East of the Bali Hai harbour building. Map here!\n9:30   boat departure\n10.15  arrival at the beach\, setting up camp\n10:30 departure for members who would like to fish from the boat\n12:00 lunch on the beach. (Bring something to share.)\n14:00 Water game\n16:00 start going back\n17.00 arrive Bali Hai pier\n–\n17:30 (optional) winding down swim & dinner at Chan Resort (own cost) \nThere is snorkeling equipment and fishing equipment on board the boat and they offer water and snacks. Limited tickets: 16 passengers only. \nBring your own towel\, sun screen\, book\, some food to share and own beverages. Water is on the boat. \nOnly 1400 thb per person +plus fee to the navy (150 baht for foreigners – 50 baht for Thai). \n\nBuy the number of tickets you need with the app on the top of this page.\nAlternatively\, you can buy directly with PayPal: Nude fishing & diving ticket 1400 THB/person.\nOr bank transfer 1.400 THB to Kasikornbank acc.: 679-2-21215-6 (Naturist Association (Thailand) Co.\, Ltd.)\nIf you choose bank transfer\, please include your member ID number from your NAT profile. Please also send the slip as a direct message to memberadmin\n\nPaid or Premium members – please print your card or show it on your phone. If not yet a paying member\, you can upgrade at the pier. Please prepare navy fee in small notes. \nBook a room at Chan Resort on Saturday or Sunday here: https://www.chanresort.com/rooms \n \n 
URL:https://thailandnaturist.com/event/speed-boat-island-trip-from-pattaya-13/
LOCATION:Bali Hai Pier – we meet here: The cafe next to the stairs to the sand beach. Do NOT walk out on the pier\, please\, Bali Hai Pier\, WVG9+C4 Pattaya City\, Bang Lamung District\, Chon Buri\, Pattaya City\, Chon Buri\, 20150\, Thailand
ATTACH;FMTTYPE=image/jpeg:https://thailandnaturist.com/wp-content/uploads/2024/09/1731920595911-scaled-e1731920718283.jpg
ORGANIZER;CN="Naturist Association Thailand":MAILTO:info@thailandnaturist.com
GEO:12.9260047;100.8678184
X-APPLE-STRUCTURED-LOCATION;VALUE=URI;X-ADDRESS=Bali Hai Pier – we meet here: The cafe next to the stairs to the sand beach. Do NOT walk out on the pier please Bali Hai Pier WVG9+C4 Pattaya City Bang Lamung District Chon Buri Pattaya City Chon Buri 20150 Thailand;X-APPLE-RADIUS=500;X-TITLE=Bali Hai Pier\, WVG9+C4 Pattaya City\, Bang Lamung District\, Chon Buri:geo:100.8678184,12.9260047
END:VEVENT
BEGIN:VEVENT
DTSTART;TZID=Asia/Bangkok:20260314T160000
DTEND;TZID=Asia/Bangkok:20260314T220000
DTSTAMP:20260422T182715
CREATED:20250608T154641Z
LAST-MODIFIED:20260406T094930Z
UID:10000455-1773504000-1773525600@thailandnaturist.com
SUMMARY:Barefeet Naturist Resort's Foam Party\, Live Music\, Good Food and Fancy Cocktails
DESCRIPTION:Barefeet Naturist Resort’s legendary Foam & Cocktail Party starts at 4 PM and goes on until 22 PM. Come and enjoy the Salad and BBQ Buffet\, our specials cocktails our live music \nAdmission: 899.- THB per person. And NO charge of 80 THB per hour from 4 – 10 pm Buy here! \nEverything is included in the price: The foam party in the jacuzzi pool\, the light buffet dinner\, the special cocktails\, the live music\, your naked friends.
URL:https://thailandnaturist.com/event/barefeet-naturist-resorts-foam-party-live-music-good-food-and-fancy-cocktails-5/2026-03-14/
LOCATION:Barefeet Naturist Resort\, Barefeet Naturist Resort\, 85 Soi Prasert-Manukitch 29\, Yaek 7\, Bangkok\, Bangkok\, 10230\, Thailand
ATTACH;FMTTYPE=image/jpeg:https://thailandnaturist.com/wp-content/uploads/2025/06/foam3a-e16937339337751-scaled-1.jpg
ORGANIZER;CN="Barefeet Naturist Resort":MAILTO:barefeetresort@gmail.com
GEO:13.8417488;100.6163118
X-APPLE-STRUCTURED-LOCATION;VALUE=URI;X-ADDRESS=Barefeet Naturist Resort Barefeet Naturist Resort 85 Soi Prasert-Manukitch 29 Yaek 7 Bangkok Bangkok 10230 Thailand;X-APPLE-RADIUS=500;X-TITLE=Barefeet Naturist Resort\, 85 Soi Prasert-Manukitch 29\, Yaek 7:geo:100.6163118,13.8417488
END:VEVENT
END:VCALENDAR