BEGIN:VCALENDAR
VERSION:2.0
PRODID:-//Naturist Association Thailand - ECPv6.15.18//NONSGML v1.0//EN
CALSCALE:GREGORIAN
METHOD:PUBLISH
X-ORIGINAL-URL:https://thailandnaturist.com
X-WR-CALDESC:Events for Naturist Association Thailand
REFRESH-INTERVAL;VALUE=DURATION:PT1H
X-Robots-Tag:noindex
X-PUBLISHED-TTL:PT1H
BEGIN:VTIMEZONE
TZID:Asia/Bangkok
BEGIN:STANDARD
TZOFFSETFROM:+0700
TZOFFSETTO:+0700
TZNAME:+07
DTSTART:20240101T000000
END:STANDARD
END:VTIMEZONE
BEGIN:VEVENT
DTSTART;TZID=Asia/Bangkok:20250809T083000
DTEND;TZID=Asia/Bangkok:20250809T170000
DTSTAMP:20260423T121016
CREATED:20250607T074627Z
LAST-MODIFIED:20250807T122336Z
UID:10000433-1754728200-1754758800@thailandnaturist.com
SUMMARY:Cancelled: Fishing & Snorkeling Boat Trip
DESCRIPTION:ภาษาไทยด้านล่าง \nOnly 1400 thb per person incl. lunch on board. +plus navy fee (150 baht for foreigners / 50 baht for Thais) if we get the opportunity to go ashore. \nHow to join? \n1. Buy the ticket \nOr\n2. Call: 094 772 1116 — 096 889 1112 — 081 629 0117 – and:\nTransfer to Kasikornbank acc.: 679-2-21215-6\nName: Naturist Association (Thailand) Co.\, Ltd.\nSend the slip to us so we know who paid! \nOr\n3. Use your creditcard with PayPal: Nude fishing & diving ticket 1400 THB/person \n  \nSchedule of the trip\n9:00 meet at the pier and register\n9:30 boat departure\n10:30 fishing activity starts\n11:30 move closer to island\n12:00 lunch on board (with our own fish\, if we caught any)\n13:00 Snorkeling around the boat\, maybe swim ashore if the sea is calm\n16:00 start going back\n17.00 arrive Bali Hai pier\n–\n17:30 winding down swim & dinner at Chan Resort (optional) \nBring your own towel\, sun screen\, book and beverages. The price includes lunch and use of the boat’s fishing equipment and life vests. If you want to swim or snorkel\, it is recommended that you bring your own mask and fins. \nIf you don’t want to fish or snorkel\, please come anyway just to relax on the boat. This is a unique opportunity in Thailand to join a nude day cruise! \nPaid or Premium members – please print your card or show it on your phone. If not yet a paying member\, you can upgrade at the pier. \nFurther dates through the rest of the year 2023 will be announced as they are planned. \nBook a room at Chan Resort on Friday or Saturday here: https://www.chanresort.com/rooms  \n  \nโทร: 094 772 1116 — 096 889 1112 — 081 629 0117 – เพียง 1400 บาท/คน พร้อมอาหารกลางวัน. \nหรือ:\nโอนเงินเข้าธนาคารกสิกรไทย บัญชี: 679-2-21215-6\nชื่อ: Naturist Association (Thailand) Co.\, Ltd.\nส่งสลิปมาให้เรารู้นะว่าใครจ่าย! \nหรือ:\nใช้บัตรเครดิตของคุณกับ PayPal: จองตกปลาและดำน้ำ 1400 บาท/คน พร้อมอาหารกลางวัน \nกำหนดการเบื้องต้น\n9:00 น. ถึงท่าเรือและลงทะเบียน\n09:30 เรือออก\n10:30 เริ่มกิจกรรมตกปลา\n11:30 ย้ายเข้าไปใกล้เกาะมากขึ้น\n12:00 รับประทานอาหารกลางวันบนเรือ (ถ้าตกปลาได้เราจะมีปลาทอดของเราเอง)\n13:00 ดำน้ำตื้นกับชีวิตปลาสวยงามมากมายของแนวปะการัง\n16:00 เริ่มเดินทางกลับ\n17.00 น. ถึงท่าเรือบาลีฮาย\n–\n17:30 น. ว่ายน้ำและทานอาหารเย็นที่ชาญรีสอร์ท (ไม่บังคับ) \nนำผ้าเช็ดตัว ครีมกันแดด หนังสือและเครื่องดื่มมาเอง ราคานี้รวมอาหารกลางวันและการใช้อุปกรณ์ตกปลาและเสื้อชูชีพบนเรือ หากคุณต้องการว่ายน้ำหรือดำน้ำตื้น แนะนำให้นำหน้ากากและตีนกบมาเอง \nถ้าไม่อยากตกปลาหรือดำน้ำตื้น เชิญมาพักผ่อนบนเรือได้เลย นี่เป็นโอกาสพิเศษในประเทศไทยที่จะได้ร่วมเปลือยกายล่องเรือ! \nสมาชิกแบบชำระเงินหรือแบบพรีเมียม – โปรดพิมพ์บัตรของคุณหรือแสดงบนโทรศัพท์ของคุณ หากยังไม่ได้เป็นสมาชิกแบบชำระเงิน สามารถอัพเกรดได้ที่ท่าเรือ \nวันที่และจุดหมายปลายทางเพิ่มเติมจะประกาศตามแผน \nสำรองห้องพัก ชาญ รีสอร์ท: https://www.chanresort.com/rooms \n       \n\n \n 
URL:https://thailandnaturist.com/event/fishing-snorkeling-boat-trip-15/
LOCATION:Bali Hai Pier – we meet here: The cafe next to the stairs to the sand beach. Do NOT walk out on the pier\, please\, Bali Hai Pier\, WVG9+C4 Pattaya City\, Bang Lamung District\, Chon Buri\, Pattaya City\, Chon Buri\, 20150\, Thailand
ATTACH;FMTTYPE=image/jpeg:https://thailandnaturist.com/wp-content/uploads/2020/08/received_1022536988196684-scaled.jpeg
ORGANIZER;CN="Naturist Association Thailand":MAILTO:info@thailandnaturist.com
GEO:12.9260047;100.8678184
X-APPLE-STRUCTURED-LOCATION;VALUE=URI;X-ADDRESS=Bali Hai Pier – we meet here: The cafe next to the stairs to the sand beach. Do NOT walk out on the pier please Bali Hai Pier WVG9+C4 Pattaya City Bang Lamung District Chon Buri Pattaya City Chon Buri 20150 Thailand;X-APPLE-RADIUS=500;X-TITLE=Bali Hai Pier\, WVG9+C4 Pattaya City\, Bang Lamung District\, Chon Buri:geo:100.8678184,12.9260047
END:VEVENT
BEGIN:VEVENT
DTSTART;TZID=Asia/Bangkok:20250816T160000
DTEND;TZID=Asia/Bangkok:20250816T220000
DTSTAMP:20260423T121016
CREATED:20250608T154641Z
LAST-MODIFIED:20260406T094930Z
UID:10000448-1755360000-1755381600@thailandnaturist.com
SUMMARY:Barefeet Naturist Resort's Foam Party\, Live Music\, Good Food and Fancy Cocktails
DESCRIPTION:Barefeet Naturist Resort’s legendary Foam & Cocktail Party starts at 4 PM and goes on until 22 PM. Come and enjoy the Salad and BBQ Buffet\, our specials cocktails our live music \nAdmission: 899.- THB per person. And NO charge of 80 THB per hour from 4 – 10 pm Buy here! \nEverything is included in the price: The foam party in the jacuzzi pool\, the light buffet dinner\, the special cocktails\, the live music\, your naked friends.
URL:https://thailandnaturist.com/event/barefeet-naturist-resorts-foam-party-live-music-good-food-and-fancy-cocktails-5/2025-08-16/
LOCATION:Barefeet Naturist Resort\, Barefeet Naturist Resort\, 85 Soi Prasert-Manukitch 29\, Yaek 7\, Bangkok\, Bangkok\, 10230\, Thailand
ATTACH;FMTTYPE=image/jpeg:https://thailandnaturist.com/wp-content/uploads/2025/06/foam3a-e16937339337751-scaled-1.jpg
ORGANIZER;CN="Barefeet Naturist Resort":MAILTO:barefeetresort@gmail.com
GEO:13.8417488;100.6163118
X-APPLE-STRUCTURED-LOCATION;VALUE=URI;X-ADDRESS=Barefeet Naturist Resort Barefeet Naturist Resort 85 Soi Prasert-Manukitch 29 Yaek 7 Bangkok Bangkok 10230 Thailand;X-APPLE-RADIUS=500;X-TITLE=Barefeet Naturist Resort\, 85 Soi Prasert-Manukitch 29\, Yaek 7:geo:100.6163118,13.8417488
END:VEVENT
BEGIN:VEVENT
DTSTART;TZID=Asia/Bangkok:20250830T140000
DTEND;TZID=Asia/Bangkok:20250830T180000
DTSTAMP:20260423T121016
CREATED:20250812T065804Z
LAST-MODIFIED:20250812T101521Z
UID:10000462-1756562400-1756576800@thailandnaturist.com
SUMMARY:Shibari Workshop – join to watch or try?
DESCRIPTION:Poster for the special Shibari Event at Barefeet Naturist Resort on Saturday 30 August 2025. Please share in your network.\n  \nOn Saturday 30 August 2025\, Barefeet Naturist Resort will host a nude Shibari workshop — the traditional Japanese art of rope bondage\, celebrated for its beauty\, artistry\, and mindful connection between participants. Visiting Shibari experts will lead the demonstration and offer members to try themselves. \n2:00–4:00 pm – Beginners’ Shibari Workshop\nLearn the basics in a safe\, respectful naturist environment. This hands-on session introduces you to the essential knots\, ties\, and techniques that form the foundation of Shibari. \n4:00 pm – Underwater Shibari Photo Session\nWe take the art to the pool\, where the ropes and forms transform in the flowing\, weightless world underwater. A unique visual experience for participants and spectators alike. Session is conducted by a professional underwater photographer. \nWhile Shibari is not for everyone to try\, everyone is welcome to watch. Whether you participate or simply observe\, you will be part of an inspiring and unforgettable event. \nBarefeet charges only normal member cost of 80 THB per hour. Food and drinks available. Show or get a membership by the door.
URL:https://thailandnaturist.com/event/shibari-workshop-join-to-watch-or-try/
LOCATION:Barefeet Naturist Resort\, Barefeet Naturist Resort\, 85 Soi Prasert-Manukitch 29\, Yaek 7\, Bangkok\, Bangkok\, 10230\, Thailand
CATEGORIES:naturist events
ATTACH;FMTTYPE=image/jpeg:https://thailandnaturist.com/wp-content/uploads/2025/08/Shibari-scaled.jpg
ORGANIZER;CN="Barefeet Naturist Resort":MAILTO:barefeetresort@gmail.com
GEO:13.8417488;100.6163118
X-APPLE-STRUCTURED-LOCATION;VALUE=URI;X-ADDRESS=Barefeet Naturist Resort Barefeet Naturist Resort 85 Soi Prasert-Manukitch 29 Yaek 7 Bangkok Bangkok 10230 Thailand;X-APPLE-RADIUS=500;X-TITLE=Barefeet Naturist Resort\, 85 Soi Prasert-Manukitch 29\, Yaek 7:geo:100.6163118,13.8417488
END:VEVENT
BEGIN:VEVENT
DTSTART;TZID=Asia/Bangkok:20250830T160000
DTEND;TZID=Asia/Bangkok:20250831T160000
DTSTAMP:20260423T121016
CREATED:20250814T064654Z
LAST-MODIFIED:20250814T064839Z
UID:10000463-1756569600-1756656000@thailandnaturist.com
SUMMARY:BBQ Party on the beach - with sunrise
DESCRIPTION:The August BBQ party and camping on Kaew Beach near Cha-am is taking place on Saturday 30 August to Sunday 31 June 2025. \nRead more details on the group page.\nhttps://thailandnaturist.com/groups/hua-hin-cha-am-naturist/ \n \n 
URL:https://thailandnaturist.com/event/bbq-party-on-the-beach-with-sunrise-2/
LOCATION:Kaew Beach\, Kaew Beach\, Puek tian\, Tha Yang District\,\, Phetchburi\, Phetchaburi\, 76130\, Thailand
CATEGORIES:naturist events
ATTACH;FMTTYPE=image/jpeg:https://thailandnaturist.com/wp-content/uploads/2025/03/kaew-e1749965642226.jpg
END:VEVENT
END:VCALENDAR