BEGIN:VCALENDAR
VERSION:2.0
PRODID:-//Naturist Association Thailand - ECPv6.15.18//NONSGML v1.0//EN
CALSCALE:GREGORIAN
METHOD:PUBLISH
X-ORIGINAL-URL:https://thailandnaturist.com
X-WR-CALDESC:Events for Naturist Association Thailand
REFRESH-INTERVAL;VALUE=DURATION:PT1H
X-Robots-Tag:noindex
X-PUBLISHED-TTL:PT1H
BEGIN:VTIMEZONE
TZID:Asia/Bangkok
BEGIN:STANDARD
TZOFFSETFROM:+0700
TZOFFSETTO:+0700
TZNAME:+07
DTSTART:20240101T000000
END:STANDARD
END:VTIMEZONE
BEGIN:VEVENT
DTSTART;TZID=Asia/Bangkok:20250112T083000
DTEND;TZID=Asia/Bangkok:20250112T170000
DTSTAMP:20260424T022246
CREATED:20240903T082943Z
LAST-MODIFIED:20241205T075615Z
UID:10000394-1736670600-1736701200@thailandnaturist.com
SUMMARY:Speed Boat Island Trip from Pattaya
DESCRIPTION:Join our popular nude beach trip about 45 minutes off the coast from Pattaya! \nSchedule of the trip\n8:45   meet and register at the cafe to the East of the Bali Hai harbour building. Map here!\n9:00   boat departure\n9:45   arrival at the beach\, setting up camp under the shady bushes.\n10:00 departure for members who would like to fish from the boat\n12:00 lunch on the beach. (Bring something to share.)\n14:00 Water game\n16:00 start going back\n17.00 arrive Bali Hai pier\n–\n17:30 (optional) winding down swim & dinner at Chan Resort (own cost) \nThere is snorkeling equipment and fishing equipment on board the boat and they offer water and snacks. Limited tickets: 16 passengers only. \nBring your own towel\, sun screen\, book\, some food to share and own beverages. Water is on the boat. \nOnly 1400 thb per person +plus fee to the navy (150 baht for foreigners – 50 baht for Thai). \n\nBuy the number of tickets you need with the app on the top of this page.\nAlternatively\, you can buy directly with PayPal: Nude fishing & diving ticket 1400 THB/person.\nOr bank transfer 1.400 THB to Kasikornbank acc.: 679-2-21215-6 (Naturist Association (Thailand) Co.\, Ltd.)\nIf you choose bank transfer\, please include your member ID number from your NAT profile. Please also send the slip as a direct message to memberadmin\n\nPaid or Premium members – please print your card or show it on your phone. If not yet a paying member\, you can upgrade at the pier. Please prepare navy fee in small notes. \nBook a room at Chan Resort on Saturday or Sunday here: https://www.chanresort.com/rooms \n \n 
URL:https://thailandnaturist.com/event/speed-boat-island-trip-from-pattaya-4/
LOCATION:Bali Hai Pier – we meet here: The cafe next to the stairs to the sand beach. Do NOT walk out on the pier\, please\, Bali Hai Pier\, WVG9+C4 Pattaya City\, Bang Lamung District\, Chon Buri\, Pattaya City\, Chon Buri\, 20150\, Thailand
ATTACH;FMTTYPE=image/jpeg:https://thailandnaturist.com/wp-content/uploads/2024/09/1731920595911-scaled-e1731920718283.jpg
ORGANIZER;CN="Naturist Association Thailand":MAILTO:info@thailandnaturist.com
GEO:12.9260047;100.8678184
X-APPLE-STRUCTURED-LOCATION;VALUE=URI;X-ADDRESS=Bali Hai Pier – we meet here: The cafe next to the stairs to the sand beach. Do NOT walk out on the pier please Bali Hai Pier WVG9+C4 Pattaya City Bang Lamung District Chon Buri Pattaya City Chon Buri 20150 Thailand;X-APPLE-RADIUS=500;X-TITLE=Bali Hai Pier\, WVG9+C4 Pattaya City\, Bang Lamung District\, Chon Buri:geo:100.8678184,12.9260047
END:VEVENT
BEGIN:VEVENT
DTSTART;TZID=Asia/Bangkok:20250126T000000
DTEND;TZID=Asia/Bangkok:20250127T170000
DTSTAMP:20260424T022246
CREATED:20250105T061656Z
LAST-MODIFIED:20250105T061656Z
UID:10000417-1737849600-1737997200@thailandnaturist.com
SUMMARY:Beach Days & BBQ - Cha-am on Sun 26/ Mon 27 January 2025
DESCRIPTION:PLEASE: RSVP so we know how many we will be!!  \nAll naturists are welcome to join this once-a-month event on Kaew Beach north of Cha-am\, a 2 hours drive from Bangkok. Do not fear the word “camping” – this is not a strenuous activity. We sit in lounge chairs in front of a restaurant and enjoy the ocean view! \nThe event is organised by the group: Hua Hin Cha-am Naturists  See details in the group.
URL:https://thailandnaturist.com/event/beach-days-bbq-cha-am-on-sun-26-mon-27-january-2025/
LOCATION:Kaew Beach\, Kaew Beach\, Puek tian\, Tha Yang District\,\, Phetchburi\, Phetchaburi\, 76130\, Thailand
CATEGORIES:naturist events
ATTACH;FMTTYPE=image/jpeg:https://thailandnaturist.com/wp-content/uploads/2024/09/kaew.jpg
END:VEVENT
END:VCALENDAR