BEGIN:VCALENDAR
VERSION:2.0
PRODID:-//Naturist Association Thailand - ECPv6.15.18//NONSGML v1.0//EN
CALSCALE:GREGORIAN
METHOD:PUBLISH
X-ORIGINAL-URL:https://thailandnaturist.com
X-WR-CALDESC:Events for Naturist Association Thailand
REFRESH-INTERVAL;VALUE=DURATION:PT1H
X-Robots-Tag:noindex
X-PUBLISHED-TTL:PT1H
BEGIN:VTIMEZONE
TZID:Asia/Bangkok
BEGIN:STANDARD
TZOFFSETFROM:+0700
TZOFFSETTO:+0700
TZNAME:+07
DTSTART:20230101T000000
END:STANDARD
END:VTIMEZONE
BEGIN:VEVENT
DTSTART;TZID=Asia/Bangkok:20241102T170000
DTEND;TZID=Asia/Bangkok:20241102T200000
DTSTAMP:20260424T062513
CREATED:20240412T072543Z
LAST-MODIFIED:20240423T055308Z
UID:10000344-1730566800-1730577600@thailandnaturist.com
SUMMARY:NATChat
DESCRIPTION:The live NATChat on Zoom is back!\n\nRemember in early 2020 when the whole world closed down for Covid? It was going to be the end of the world as we know it. We were all stuck at home\, whole countries were locked down and no one could go anywhere? \nThen NAT started Zoom chat. Every Friday\, Saturday and Sunday night. We met people from all over the world\, Australia\, Canada\, India\, Europe\, England and Thailand. Some nights turned into a massive party and went on till the early hours of the morning. I have since met most of those people in person and we all regularly keep in touch. \nAt the suggestion of a few people\, we are going to bring Zoom back. Every Saturday night from 5-8pm Thai time we will have a moderator and anyone can join. You have to join to find out who is the host this Saturday. \nCome in this Saturday night between 5-8pm Thai time (what time is that?) and hopefully we can have some fun and a bit of a laugh. If you were a regular before it will be great to catch up again. You can say anything silly\, since the meetings are never recorded\, they only take place in real time. \n\n\n\n\nHow to join?\nOnly members that are logged in on this website are able to see the link to the meeting\, the meeting ID and the Passcode here: \n[s2If current_user_can(access_s2member_level1)]\n \nTopic: Naked Zoom Chat \nJoin Zoom Meeting\nhttps://us02web.zoom.us/j/88574912168?pwd=https://us02web.zoom.us/j/88574912168?pwd=VjlpL0tSVXZvQjN6bHc3V3gwTTBFQT09 \nMeeting ID: 885 7491 2168\nPasscode: NAT69\n[/s2If] \nDon’t see anything? Membership can be bought in the NATShop. \nPS. The room remains open – but empty – 24/7. Members are welcome to make private meetings.
URL:https://thailandnaturist.com/event/natchat-by-alan-friends/2024-11-02/
CATEGORIES:naturist events
ATTACH;FMTTYPE=image/jpeg:https://thailandnaturist.com/wp-content/uploads/2024/04/online-chat.jpg
ORGANIZER;CN="Naturist Association Thailand":MAILTO:info@thailandnaturist.com
END:VEVENT
BEGIN:VEVENT
DTSTART;TZID=Asia/Bangkok:20241109T170000
DTEND;TZID=Asia/Bangkok:20241109T200000
DTSTAMP:20260424T062513
CREATED:20240412T072543Z
LAST-MODIFIED:20240423T055308Z
UID:10000345-1731171600-1731182400@thailandnaturist.com
SUMMARY:NATChat
DESCRIPTION:The live NATChat on Zoom is back!\n\nRemember in early 2020 when the whole world closed down for Covid? It was going to be the end of the world as we know it. We were all stuck at home\, whole countries were locked down and no one could go anywhere? \nThen NAT started Zoom chat. Every Friday\, Saturday and Sunday night. We met people from all over the world\, Australia\, Canada\, India\, Europe\, England and Thailand. Some nights turned into a massive party and went on till the early hours of the morning. I have since met most of those people in person and we all regularly keep in touch. \nAt the suggestion of a few people\, we are going to bring Zoom back. Every Saturday night from 5-8pm Thai time we will have a moderator and anyone can join. You have to join to find out who is the host this Saturday. \nCome in this Saturday night between 5-8pm Thai time (what time is that?) and hopefully we can have some fun and a bit of a laugh. If you were a regular before it will be great to catch up again. You can say anything silly\, since the meetings are never recorded\, they only take place in real time. \n\n\n\n\nHow to join?\nOnly members that are logged in on this website are able to see the link to the meeting\, the meeting ID and the Passcode here: \n[s2If current_user_can(access_s2member_level1)]\n \nTopic: Naked Zoom Chat \nJoin Zoom Meeting\nhttps://us02web.zoom.us/j/88574912168?pwd=https://us02web.zoom.us/j/88574912168?pwd=VjlpL0tSVXZvQjN6bHc3V3gwTTBFQT09 \nMeeting ID: 885 7491 2168\nPasscode: NAT69\n[/s2If] \nDon’t see anything? Membership can be bought in the NATShop. \nPS. The room remains open – but empty – 24/7. Members are welcome to make private meetings.
URL:https://thailandnaturist.com/event/natchat-by-alan-friends/2024-11-09/
CATEGORIES:naturist events
ATTACH;FMTTYPE=image/jpeg:https://thailandnaturist.com/wp-content/uploads/2024/04/online-chat.jpg
ORGANIZER;CN="Naturist Association Thailand":MAILTO:info@thailandnaturist.com
END:VEVENT
BEGIN:VEVENT
DTSTART;TZID=Asia/Bangkok:20241110T083000
DTEND;TZID=Asia/Bangkok:20241110T170000
DTSTAMP:20260424T062513
CREATED:20240903T083023Z
LAST-MODIFIED:20240917T145055Z
UID:10000395-1731227400-1731258000@thailandnaturist.com
SUMMARY:Speed Boat Island Trip from Pattaya
DESCRIPTION:Join our popular island trip about 45 minutes off the coast from Pattaya! \nSchedule of the trip\n8:45   meet and register at the cafe to the East of the Bali Hai harbour building. Map here!\n9:00   boat departure\n9:45   arrival at the beach\, setting up camp under the shady bushes.\n10:00 departure for members who would like to fish from the boat\n12:00 lunch on the beach. (Bring something to share.)\n14:00 Water game\n16:00 start going back\n17.00 arrive Bali Hai pier\n–\n17:30 winding down swim & dinner at Chan Resort (optional) \nThere is snorkeling equipment and fishing equipment on board the boat and they offer water and snacks. Limited tickets: 16 passengers only. \nBring your own towel\, sun screen\, book\, some food to share and own beverages. Water is on the boat. \nOnly 1400 thb per person. \n\nBuy the number of tickets you need with the app on the top of this page.\nAlternatively\, you can buy directly with PayPal: Nude fishing & diving ticket 1400 THB/person.\nOr bank transfer 1.400 THB to Kasikornbank acc.: 679-2-21215-6 (Naturist Association (Thailand) Co.\, Ltd.)\nIf you choose bank transfer\, please include your member ID number from your NAT profile. Please also send the slip as a direct message to memberadmin\n\nPaid or Premium members – please print your card or show it on your phone. If not yet a paying member\, you can upgrade at the pier. \nBook a room at Chan Resort on Saturday or Sunday here: https://www.chanresort.com/rooms \n \n 
URL:https://thailandnaturist.com/event/speed-boat-island-trip-from-pattaya-5/
LOCATION:Bali Hai Pier – we meet here: The cafe next to the stairs to the sand beach. Do NOT walk out on the pier\, please\, Bali Hai Pier\, WVG9+C4 Pattaya City\, Bang Lamung District\, Chon Buri\, Pattaya City\, Chon Buri\, 20150\, Thailand
ATTACH;FMTTYPE=image/jpeg:https://thailandnaturist.com/wp-content/uploads/2016/01/beach.jpeg
ORGANIZER;CN="Naturist Association Thailand":MAILTO:info@thailandnaturist.com
GEO:12.9260047;100.8678184
X-APPLE-STRUCTURED-LOCATION;VALUE=URI;X-ADDRESS=Bali Hai Pier – we meet here: The cafe next to the stairs to the sand beach. Do NOT walk out on the pier please Bali Hai Pier WVG9+C4 Pattaya City Bang Lamung District Chon Buri Pattaya City Chon Buri 20150 Thailand;X-APPLE-RADIUS=500;X-TITLE=Bali Hai Pier\, WVG9+C4 Pattaya City\, Bang Lamung District\, Chon Buri:geo:100.8678184,12.9260047
END:VEVENT
BEGIN:VEVENT
DTSTART;TZID=Asia/Bangkok:20241113T170000
DTEND;TZID=Asia/Bangkok:20241113T200000
DTSTAMP:20260424T062513
CREATED:20241111T163033Z
LAST-MODIFIED:20241111T163433Z
UID:10000407-1731517200-1731528000@thailandnaturist.com
SUMMARY:Aufguss Sauna and Ice Bath Party
DESCRIPTION:Forget your shyness and join this exciting traditional European Aufguss Sauna combined with a chilling Ice Bath. Nudity is required of course. Barefeet Naturist Resort is Bangkok’s only naturist/nudist location and you can not wear anything but your own skin. \nIf you are shy\, bring a friend. \nIf this Wellness Wednesday is your first visit\, you will have to take out a membership for one full year of Naturist Association Thailand. But you can buy that at 1000 THB at the counter. And if you come together\, your membership covers also your friend. \nOnce you are a member\, this event only costs 80 THB per hour every time you join within the coming year.\nThe event centers around Aufguss with various essential oils by our Sauna Master and the Ice Bath after the heat. The Ice Bath is optional – if it is too much\, you can go in the cold pool instead or in the temperate pool and chill down as well. \nThere will be free cold drinks and coffee and tea during the event. If you want to stay\, the restaurant is open as well as the bar.
URL:https://thailandnaturist.com/event/aufguss-sauna-and-ice-bath-party/
LOCATION:Barefeet Naturist Resort\, Barefeet Naturist Resort\, 85 Soi Prasert-Manukitch 29\, Yaek 7\, Bangkok\, Bangkok\, 10230\, Thailand
ATTACH;FMTTYPE=image/jpeg:https://thailandnaturist.com/wp-content/uploads/2024/11/Wellnesday2.jpg
ORGANIZER;CN="Barefeet Naturist Resort":MAILTO:barefeetresort@gmail.com
GEO:13.8417488;100.6163118
X-APPLE-STRUCTURED-LOCATION;VALUE=URI;X-ADDRESS=Barefeet Naturist Resort Barefeet Naturist Resort 85 Soi Prasert-Manukitch 29 Yaek 7 Bangkok Bangkok 10230 Thailand;X-APPLE-RADIUS=500;X-TITLE=Barefeet Naturist Resort\, 85 Soi Prasert-Manukitch 29\, Yaek 7:geo:100.6163118,13.8417488
END:VEVENT
BEGIN:VEVENT
DTSTART;TZID=Asia/Bangkok:20241116T150000
DTEND;TZID=Asia/Bangkok:20241116T220000
DTSTAMP:20260424T062513
CREATED:20241027T104544Z
LAST-MODIFIED:20241106T100601Z
UID:10000406-1731769200-1731794400@thailandnaturist.com
SUMMARY:Barefeet Foam & Cocktails Party & Color Fun
DESCRIPTION:Barefeet Naturist Resort invites you once again on Saturday 16 November 2024 to our legendary Foam & Cocktail Party starting at 15.00 (3 pm) followed by a Salad and BBQ Buffet at 18.00. Special for tonight!! Our Mixologist Mr. Oung will make 3 specials cocktails for each participant. This evening\, we will also play a bit around with body paint colors 🙂 \nAdmission: 899.- THB per person. FREE hours. \nEverything is included in the price: The foam party in the jacuzzi pool\, the light buffet dinner\, and the special cocktails. And the paint! \nIf you want more/other drinks\, you can buy from the bar. There is no charging of day fee between 15 and 22 hours. (normally 400 THB for 5 hours!) \nMembers only. (Apply for membership here) \n \n 
URL:https://thailandnaturist.com/event/barefeet-foam-cocktails-party/
LOCATION:Barefeet Naturist Resort\, Barefeet Naturist Resort\, 85 Soi Prasert-Manukitch 29\, Yaek 7\, Bangkok\, Bangkok\, 10230\, Thailand
CATEGORIES:naturist events
ATTACH;FMTTYPE=image/jpeg:https://thailandnaturist.com/wp-content/uploads/2024/09/526789871500001427-scaled-e1726822693832.jpg
ORGANIZER;CN="Barefeet Naturist Resort":MAILTO:barefeetresort@gmail.com
GEO:13.8417488;100.6163118
X-APPLE-STRUCTURED-LOCATION;VALUE=URI;X-ADDRESS=Barefeet Naturist Resort Barefeet Naturist Resort 85 Soi Prasert-Manukitch 29 Yaek 7 Bangkok Bangkok 10230 Thailand;X-APPLE-RADIUS=500;X-TITLE=Barefeet Naturist Resort\, 85 Soi Prasert-Manukitch 29\, Yaek 7:geo:100.6163118,13.8417488
END:VEVENT
BEGIN:VEVENT
DTSTART;TZID=Asia/Bangkok:20241116T170000
DTEND;TZID=Asia/Bangkok:20241116T200000
DTSTAMP:20260424T062513
CREATED:20240412T072543Z
LAST-MODIFIED:20240423T055308Z
UID:10000346-1731776400-1731787200@thailandnaturist.com
SUMMARY:NATChat
DESCRIPTION:The live NATChat on Zoom is back!\n\nRemember in early 2020 when the whole world closed down for Covid? It was going to be the end of the world as we know it. We were all stuck at home\, whole countries were locked down and no one could go anywhere? \nThen NAT started Zoom chat. Every Friday\, Saturday and Sunday night. We met people from all over the world\, Australia\, Canada\, India\, Europe\, England and Thailand. Some nights turned into a massive party and went on till the early hours of the morning. I have since met most of those people in person and we all regularly keep in touch. \nAt the suggestion of a few people\, we are going to bring Zoom back. Every Saturday night from 5-8pm Thai time we will have a moderator and anyone can join. You have to join to find out who is the host this Saturday. \nCome in this Saturday night between 5-8pm Thai time (what time is that?) and hopefully we can have some fun and a bit of a laugh. If you were a regular before it will be great to catch up again. You can say anything silly\, since the meetings are never recorded\, they only take place in real time. \n\n\n\n\nHow to join?\nOnly members that are logged in on this website are able to see the link to the meeting\, the meeting ID and the Passcode here: \n[s2If current_user_can(access_s2member_level1)]\n \nTopic: Naked Zoom Chat \nJoin Zoom Meeting\nhttps://us02web.zoom.us/j/88574912168?pwd=https://us02web.zoom.us/j/88574912168?pwd=VjlpL0tSVXZvQjN6bHc3V3gwTTBFQT09 \nMeeting ID: 885 7491 2168\nPasscode: NAT69\n[/s2If] \nDon’t see anything? Membership can be bought in the NATShop. \nPS. The room remains open – but empty – 24/7. Members are welcome to make private meetings.
URL:https://thailandnaturist.com/event/natchat-by-alan-friends/2024-11-16/
CATEGORIES:naturist events
ATTACH;FMTTYPE=image/jpeg:https://thailandnaturist.com/wp-content/uploads/2024/04/online-chat.jpg
ORGANIZER;CN="Naturist Association Thailand":MAILTO:info@thailandnaturist.com
END:VEVENT
BEGIN:VEVENT
DTSTART;TZID=Asia/Bangkok:20241120T170000
DTEND;TZID=Asia/Bangkok:20241120T200000
DTSTAMP:20260424T062513
CREATED:20241111T163715Z
LAST-MODIFIED:20241116T084540Z
UID:10000408-1732122000-1732132800@thailandnaturist.com
SUMMARY:Aufguss Sauna and Ice Bath Party
DESCRIPTION:Join this exciting traditional European Aufguss Sauna combined with a chilling Ice Bath. Nudity is required of course. Barefeet Naturist Resort is Bangkok’s only naturist/nudist location and you can not wear anything but your own skin. \nIf you are shy\, bring a friend. \nIf this Wellness Wednesday is your first visit\, you will have to take out a membership for one full year of Naturist Association Thailand. But you can buy that at 1000 THB at the counter. And if you come together\, your membership covers also your friend. \nOnce you are a member\, this event only costs 80 THB per hour every time you join within the coming year.\nThe event centers around Aufguss with various essential oils by our Sauna Master and the Ice Bath after the heat. The Ice Bath is optional – if it is too much\, you can go in the cold pool instead or in the temperate pool and chill down as well. \nThere will be free cold drinks and coffee and tea during the event. If you want to stay\, the restaurant is open as well as the bar. \n  \nhttps://thailandnaturist.com/wp-content/uploads/2024/11/20241113_174551.mp4
URL:https://thailandnaturist.com/event/aufguss-sauna-and-ice-bath-party-2/
LOCATION:Barefeet Naturist Resort\, Barefeet Naturist Resort\, 85 Soi Prasert-Manukitch 29\, Yaek 7\, Bangkok\, Bangkok\, 10230\, Thailand
ATTACH;FMTTYPE=image/jpeg:https://thailandnaturist.com/wp-content/uploads/2024/11/Wellnesday2.jpg
ORGANIZER;CN="Barefeet Naturist Resort":MAILTO:barefeetresort@gmail.com
GEO:13.8417488;100.6163118
X-APPLE-STRUCTURED-LOCATION;VALUE=URI;X-ADDRESS=Barefeet Naturist Resort Barefeet Naturist Resort 85 Soi Prasert-Manukitch 29 Yaek 7 Bangkok Bangkok 10230 Thailand;X-APPLE-RADIUS=500;X-TITLE=Barefeet Naturist Resort\, 85 Soi Prasert-Manukitch 29\, Yaek 7:geo:100.6163118,13.8417488
END:VEVENT
BEGIN:VEVENT
DTSTART;TZID=Asia/Bangkok:20241123T170000
DTEND;TZID=Asia/Bangkok:20241123T200000
DTSTAMP:20260424T062513
CREATED:20240412T072543Z
LAST-MODIFIED:20240423T055308Z
UID:10000347-1732381200-1732392000@thailandnaturist.com
SUMMARY:NATChat
DESCRIPTION:The live NATChat on Zoom is back!\n\nRemember in early 2020 when the whole world closed down for Covid? It was going to be the end of the world as we know it. We were all stuck at home\, whole countries were locked down and no one could go anywhere? \nThen NAT started Zoom chat. Every Friday\, Saturday and Sunday night. We met people from all over the world\, Australia\, Canada\, India\, Europe\, England and Thailand. Some nights turned into a massive party and went on till the early hours of the morning. I have since met most of those people in person and we all regularly keep in touch. \nAt the suggestion of a few people\, we are going to bring Zoom back. Every Saturday night from 5-8pm Thai time we will have a moderator and anyone can join. You have to join to find out who is the host this Saturday. \nCome in this Saturday night between 5-8pm Thai time (what time is that?) and hopefully we can have some fun and a bit of a laugh. If you were a regular before it will be great to catch up again. You can say anything silly\, since the meetings are never recorded\, they only take place in real time. \n\n\n\n\nHow to join?\nOnly members that are logged in on this website are able to see the link to the meeting\, the meeting ID and the Passcode here: \n[s2If current_user_can(access_s2member_level1)]\n \nTopic: Naked Zoom Chat \nJoin Zoom Meeting\nhttps://us02web.zoom.us/j/88574912168?pwd=https://us02web.zoom.us/j/88574912168?pwd=VjlpL0tSVXZvQjN6bHc3V3gwTTBFQT09 \nMeeting ID: 885 7491 2168\nPasscode: NAT69\n[/s2If] \nDon’t see anything? Membership can be bought in the NATShop. \nPS. The room remains open – but empty – 24/7. Members are welcome to make private meetings.
URL:https://thailandnaturist.com/event/natchat-by-alan-friends/2024-11-23/
CATEGORIES:naturist events
ATTACH;FMTTYPE=image/jpeg:https://thailandnaturist.com/wp-content/uploads/2024/04/online-chat.jpg
ORGANIZER;CN="Naturist Association Thailand":MAILTO:info@thailandnaturist.com
END:VEVENT
BEGIN:VEVENT
DTSTART;TZID=Asia/Bangkok:20241123T170000
DTEND;TZID=Asia/Bangkok:20241124T150000
DTSTAMP:20260424T062513
CREATED:20241115T054757Z
LAST-MODIFIED:20241115T054929Z
UID:10000409-1732381200-1732460400@thailandnaturist.com
SUMMARY:Beach Camping in Cha-Am
DESCRIPTION:The Camping weekend on Kaew Beach with BBQ and night walk will be held on Saturday 23 and Sunday 24  November 2024. For the first time on a Saturday and Sunday! Please check the Hua Hin/ Cha am group page for all the details. Here are a few photos to whet your appetite:
URL:https://thailandnaturist.com/event/beach-camping-in-cha-am-5/
LOCATION:Kaew Beach\, Kaew Beach\, Puek tian\, Tha Yang District\,\, Phetchburi\, Phetchaburi\, 76130\, Thailand
CATEGORIES:naturist events
ATTACH;FMTTYPE=image/jpeg:https://thailandnaturist.com/wp-content/uploads/2024/09/kaew.jpg
END:VEVENT
BEGIN:VEVENT
DTSTART;TZID=Asia/Bangkok:20241129T110000
DTEND;TZID=Asia/Bangkok:20241129T160000
DTSTAMP:20260424T062513
CREATED:20241127T140247Z
LAST-MODIFIED:20241128T090003Z
UID:10000411-1732878000-1732896000@thailandnaturist.com
SUMMARY:Nude Modeling Event is here again @ Barefeet Bangkok
DESCRIPTION:When: Friday 29 November 2024\nWhere: Barefeet Naturist Resort\, Lad Phrao\, Bangkok Google map: Here \nSchedule: 11:00-16:00 (11 am – 4 pm) – individual/couples sketches/group sketch session\n\n11.00 artists arrive and have lunch\n13.00 artists set up studio stages & welcome meeting\n13:30- 15:30 artists working on individual/couples sketches\n16:00 Presentation of work with Q&A\n\nPurpose:\n1. To encourage a healthy body image.\n2. To promote the drawing skills of artists in drawing the body. \nDetails\nThis activity promotes artistic skills and a positive attitude towards the human body\, it is not an activity for profit. \nNaturists have the rare opportunity to try to be nude model as a group or as individuals. This way naturists can contribute to the art world by offering aspiring artists as well as experienced artisists to draw or paint our naked bodies. \nIf you come to be a model\, there is no charge for the event. If you want to join for the special atmosphere\, you pay only the regular day visit fee of 80 Baht/hour. Artists and those who are interested in art can participate. You can bring your favorite drawing equipment to the resort on the event date. \nNaturist Association Thailand provides drinks and snacks. You can order food at your own expense from Chef Nui’s kitchen. \nNAT will resume organizing this event every month. Further dates and locations will be announced as they are planned. \nThis is a unique opportunity in Thailand to attend a nude modelling session – with you being in the nude!  If in doubt read this article: \nReport from a previous nude modeling event\nIf you don’t want to be drawn\, please come anyway just to see the drawings that some of the artists bring to show and hear them explain about their technique and what fascinates them about “Life Drawing”. \nIf you wish one of the artists to draw exclusive sketches of you for you to take home with you\, please inform us in advance and we will arrange a meeting with you and the artist. \nPlease RSVP.\n \nSee latest past-event article here. (Click!) \n \nกิจกรรมการวาดภาพเปลือยเชิงศิลปะ สำหรับผู้ที่สนใจ *ไม่มีค่าใช้จ่ายในการร่วมงาน นอกจาก 80 บาท/ชม*\nวัน: วันเสาร์ ที่ 29 พฤศจิกายน 2566\nสถานที่: แบร์ฟีต เนเจอลิสต์ รีสอร์ท\n85 ซ. ประเสริฐมนูกิจ 29\, แยก 7\, กรุงเทพมหานคร – Google map: Here \nวัตถุประสงค์\n1. เพื่อส่งเสริมภาพลักษณ์สุขภาพ\n2. เพื่อส่งเสริมทักษะการวาดของศิลปินในการวาดภายร่างกายมนุษย์ \nกำหนดการ:\n11:00-16:00 น.\nวาดภาพกลุ่มหรือภาพที่ท่านต้องการ \nกิจกรรมนี้สนับสนุนโดย บ. สมาคม ไทยแลนด์ เนเชอรีสท์ จำกัด และสนันสนุนสถานที่ โดย แบฟีต เนเชอรีสท์ รีสอรต์\nบ. สมาคม ไทยแลนด์ เนเชอรีสท์ จำกัด วางแผนจะจัดกิจกรรมนี้ทุกเดือน และจะมีการประกาศ วัน และสถานที่ เพิ่มเติมให้ท่านทราบภายหลัง * ไม่มีค่าใช้จ่ายสำหรับกิจกรรม ศิลปินและผู้ที่สนใจศิลปะสามารถเข้าร่วมได้ โดยนำอุปกรณ์วาดรูปที่คุณชื่นชอบไปที่รีสอร์ทในวันที่จัดกิจกรรม * สมาคมให้บริการเครื่องดื่มและอาหารว่าง คุณสามารถสั่งอาหารได้ด้วยค่าใช้จ่ายของท่านเอง \n 
URL:https://thailandnaturist.com/event/free-nude-modeling-event-barefeet-bangkok/
LOCATION:Barefeet Naturist Resort\, Barefeet Naturist Resort\, 85 Soi Prasert-Manukitch 29\, Yaek 7\, Bangkok\, Bangkok\, 10230\, Thailand
ATTACH;FMTTYPE=image/png:https://thailandnaturist.com/wp-content/uploads/2023/07/nude-model-gif.png
ORGANIZER;CN="Naturist Association Thailand":MAILTO:info@thailandnaturist.com
GEO:13.8417488;100.6163118
X-APPLE-STRUCTURED-LOCATION;VALUE=URI;X-ADDRESS=Barefeet Naturist Resort Barefeet Naturist Resort 85 Soi Prasert-Manukitch 29 Yaek 7 Bangkok Bangkok 10230 Thailand;X-APPLE-RADIUS=500;X-TITLE=Barefeet Naturist Resort\, 85 Soi Prasert-Manukitch 29\, Yaek 7:geo:100.6163118,13.8417488
END:VEVENT
END:VCALENDAR