BEGIN:VCALENDAR
VERSION:2.0
PRODID:-//Naturist Association Thailand - ECPv6.15.18//NONSGML v1.0//EN
CALSCALE:GREGORIAN
METHOD:PUBLISH
X-WR-CALNAME:Naturist Association Thailand
X-ORIGINAL-URL:https://thailandnaturist.com
X-WR-CALDESC:Events for Naturist Association Thailand
REFRESH-INTERVAL;VALUE=DURATION:PT1H
X-Robots-Tag:noindex
X-PUBLISHED-TTL:PT1H
BEGIN:VTIMEZONE
TZID:Asia/Bangkok
BEGIN:STANDARD
TZOFFSETFROM:+0700
TZOFFSETTO:+0700
TZNAME:+07
DTSTART:20230101T000000
END:STANDARD
END:VTIMEZONE
BEGIN:VEVENT
DTSTART;TZID=Asia/Bangkok:20240907T170000
DTEND;TZID=Asia/Bangkok:20240907T200000
DTSTAMP:20260424T095717
CREATED:20240412T072543Z
LAST-MODIFIED:20240423T055308Z
UID:10000336-1725728400-1725739200@thailandnaturist.com
SUMMARY:NATChat
DESCRIPTION:The live NATChat on Zoom is back!\n\nRemember in early 2020 when the whole world closed down for Covid? It was going to be the end of the world as we know it. We were all stuck at home\, whole countries were locked down and no one could go anywhere? \nThen NAT started Zoom chat. Every Friday\, Saturday and Sunday night. We met people from all over the world\, Australia\, Canada\, India\, Europe\, England and Thailand. Some nights turned into a massive party and went on till the early hours of the morning. I have since met most of those people in person and we all regularly keep in touch. \nAt the suggestion of a few people\, we are going to bring Zoom back. Every Saturday night from 5-8pm Thai time we will have a moderator and anyone can join. You have to join to find out who is the host this Saturday. \nCome in this Saturday night between 5-8pm Thai time (what time is that?) and hopefully we can have some fun and a bit of a laugh. If you were a regular before it will be great to catch up again. You can say anything silly\, since the meetings are never recorded\, they only take place in real time. \n\n\n\n\nHow to join?\nOnly members that are logged in on this website are able to see the link to the meeting\, the meeting ID and the Passcode here: \n[s2If current_user_can(access_s2member_level1)]\n \nTopic: Naked Zoom Chat \nJoin Zoom Meeting\nhttps://us02web.zoom.us/j/88574912168?pwd=https://us02web.zoom.us/j/88574912168?pwd=VjlpL0tSVXZvQjN6bHc3V3gwTTBFQT09 \nMeeting ID: 885 7491 2168\nPasscode: NAT69\n[/s2If] \nDon’t see anything? Membership can be bought in the NATShop. \nPS. The room remains open – but empty – 24/7. Members are welcome to make private meetings.
URL:https://thailandnaturist.com/event/natchat-by-alan-friends/2024-09-07/
CATEGORIES:naturist events
ATTACH;FMTTYPE=image/jpeg:https://thailandnaturist.com/wp-content/uploads/2024/04/online-chat.jpg
ORGANIZER;CN="Naturist Association Thailand":MAILTO:info@thailandnaturist.com
END:VEVENT
BEGIN:VEVENT
DTSTART;TZID=Asia/Bangkok:20240914T170000
DTEND;TZID=Asia/Bangkok:20240914T200000
DTSTAMP:20260424T095717
CREATED:20240412T072543Z
LAST-MODIFIED:20240423T055308Z
UID:10000337-1726333200-1726344000@thailandnaturist.com
SUMMARY:NATChat
DESCRIPTION:The live NATChat on Zoom is back!\n\nRemember in early 2020 when the whole world closed down for Covid? It was going to be the end of the world as we know it. We were all stuck at home\, whole countries were locked down and no one could go anywhere? \nThen NAT started Zoom chat. Every Friday\, Saturday and Sunday night. We met people from all over the world\, Australia\, Canada\, India\, Europe\, England and Thailand. Some nights turned into a massive party and went on till the early hours of the morning. I have since met most of those people in person and we all regularly keep in touch. \nAt the suggestion of a few people\, we are going to bring Zoom back. Every Saturday night from 5-8pm Thai time we will have a moderator and anyone can join. You have to join to find out who is the host this Saturday. \nCome in this Saturday night between 5-8pm Thai time (what time is that?) and hopefully we can have some fun and a bit of a laugh. If you were a regular before it will be great to catch up again. You can say anything silly\, since the meetings are never recorded\, they only take place in real time. \n\n\n\n\nHow to join?\nOnly members that are logged in on this website are able to see the link to the meeting\, the meeting ID and the Passcode here: \n[s2If current_user_can(access_s2member_level1)]\n \nTopic: Naked Zoom Chat \nJoin Zoom Meeting\nhttps://us02web.zoom.us/j/88574912168?pwd=https://us02web.zoom.us/j/88574912168?pwd=VjlpL0tSVXZvQjN6bHc3V3gwTTBFQT09 \nMeeting ID: 885 7491 2168\nPasscode: NAT69\n[/s2If] \nDon’t see anything? Membership can be bought in the NATShop. \nPS. The room remains open – but empty – 24/7. Members are welcome to make private meetings.
URL:https://thailandnaturist.com/event/natchat-by-alan-friends/2024-09-14/
CATEGORIES:naturist events
ATTACH;FMTTYPE=image/jpeg:https://thailandnaturist.com/wp-content/uploads/2024/04/online-chat.jpg
ORGANIZER;CN="Naturist Association Thailand":MAILTO:info@thailandnaturist.com
END:VEVENT
BEGIN:VEVENT
DTSTART;TZID=Asia/Bangkok:20240915T083000
DTEND;TZID=Asia/Bangkok:20240915T170000
DTSTAMP:20260424T095717
CREATED:20240827T060811Z
LAST-MODIFIED:20240906T064657Z
UID:10000389-1726389000-1726419600@thailandnaturist.com
SUMMARY:Speed Boat Island Trip from Pattaya
DESCRIPTION:NEW! Join this new and improved speed boat trip. We will visit an island about 45 minutes off the coast from Pattaya. There is snorkeling equipment and fishing equipment on board the boat and they offer water and snacks. Limited tickets: 16 passengers only. \nOnly 1400 thb per person. \n\nBuy the number of tickets you need with the app on the top of this page.\nAlternatively\, you can buy directly with PayPal: Nude fishing & diving ticket 1400 THB/person.\nOr bank transfer 1.400 THB to Kasikornbank acc.: 679-2-21215-6 (Naturist Association (Thailand) Co.\, Ltd.)\nIf you choose bank transfer\, please include your member ID number from your NAT profile. Please also send the slip as a direct message to memberadmin\n\nSchedule of the trip\n8:45   meet and register at the cafe to the East of the Bali Hai harbour building. Map here!\n9:00   boat departure\n9:45   arrival at the beach\, setting up camp under the shady bushes.\n10:00 departure for members who would like to fish from the boat\n12:00 lunch on the beach. (Bring something to share.)\n14:00 Water game\n16:00 start going back\n17.00 arrive Bali Hai pier\n–\n17:30 Optional: Join the Anniversary Party at Chan Resort \nBring your own towel\, sun screen\, book\, some food to share and own beverages. Water is on the boat. \nPaid or Premium members – please print your card or show it on your phone. If not yet a paying member\, you can upgrade at the pier. \nBook a room at Chan Resort on Saturday or Sunday here: https://www.chanresort.com/rooms
URL:https://thailandnaturist.com/event/speed-boat-island-trip-from-pattaya/
LOCATION:Bali Hai Pier – we meet here: The cafe next to the stairs to the sand beach. Do NOT walk out on the pier\, please\, Bali Hai Pier\, WVG9+C4 Pattaya City\, Bang Lamung District\, Chon Buri\, Pattaya City\, Chon Buri\, 20150\, Thailand
ATTACH;FMTTYPE=image/jpeg:https://thailandnaturist.com/wp-content/uploads/2016/01/beach.jpeg
ORGANIZER;CN="Naturist Association Thailand":MAILTO:info@thailandnaturist.com
GEO:12.9260047;100.8678184
X-APPLE-STRUCTURED-LOCATION;VALUE=URI;X-ADDRESS=Bali Hai Pier – we meet here: The cafe next to the stairs to the sand beach. Do NOT walk out on the pier please Bali Hai Pier WVG9+C4 Pattaya City Bang Lamung District Chon Buri Pattaya City Chon Buri 20150 Thailand;X-APPLE-RADIUS=500;X-TITLE=Bali Hai Pier\, WVG9+C4 Pattaya City\, Bang Lamung District\, Chon Buri:geo:100.8678184,12.9260047
END:VEVENT
BEGIN:VEVENT
DTSTART;TZID=Asia/Bangkok:20240915T160000
DTEND;TZID=Asia/Bangkok:20240915T210000
DTSTAMP:20260424T095717
CREATED:20240905T054937Z
LAST-MODIFIED:20240910T121831Z
UID:10000400-1726416000-1726434000@thailandnaturist.com
SUMMARY:Chan Resort 12 Year Anniversary Party
DESCRIPTION:The ticket price is 600 Baht per participant. Register on the form above. The party will start 4:00 pm until 9:00 pm. Food served around 6 pm. Draft beer served. \nAll members are invited to join the 12 Year Anniversary Party at Chan Resort in Pattaya on Sunday 15th September 2024. \nTickets are sold at the counter at Chan Resort on the evening itself\, but we need to know who will be joining. Please use the RSVP form above to inform Chan Resort that you will be coming.
URL:https://thailandnaturist.com/event/chan-resort-12-year-anniversary-party/
LOCATION:Chan Resort Pattaya\, Chan Resort\, 391/145 Thanon Thap Phraya\, Bang Lamung District\, Chon Buri 20150\, Pattaya\, Chonburi\, 20150\, Thailand
ATTACH;FMTTYPE=image/jpeg:https://thailandnaturist.com/wp-content/uploads/2024/09/Chan1.jpeg
ORGANIZER;CN="Chan Resort Pattaya":MAILTO:chanresort@gmail.com
GEO:12.910289;100.87449
X-APPLE-STRUCTURED-LOCATION;VALUE=URI;X-ADDRESS=Chan Resort Pattaya Chan Resort 391/145 Thanon Thap Phraya Bang Lamung District Chon Buri 20150 Pattaya Chonburi 20150 Thailand;X-APPLE-RADIUS=500;X-TITLE=Chan Resort\, 391/145 Thanon Thap Phraya\, Bang Lamung District\, Chon Buri 20150:geo:100.87449,12.910289
END:VEVENT
BEGIN:VEVENT
DTSTART;TZID=Asia/Bangkok:20240921T170000
DTEND;TZID=Asia/Bangkok:20240921T200000
DTSTAMP:20260424T095717
CREATED:20240412T072543Z
LAST-MODIFIED:20240423T055308Z
UID:10000338-1726938000-1726948800@thailandnaturist.com
SUMMARY:NATChat
DESCRIPTION:The live NATChat on Zoom is back!\n\nRemember in early 2020 when the whole world closed down for Covid? It was going to be the end of the world as we know it. We were all stuck at home\, whole countries were locked down and no one could go anywhere? \nThen NAT started Zoom chat. Every Friday\, Saturday and Sunday night. We met people from all over the world\, Australia\, Canada\, India\, Europe\, England and Thailand. Some nights turned into a massive party and went on till the early hours of the morning. I have since met most of those people in person and we all regularly keep in touch. \nAt the suggestion of a few people\, we are going to bring Zoom back. Every Saturday night from 5-8pm Thai time we will have a moderator and anyone can join. You have to join to find out who is the host this Saturday. \nCome in this Saturday night between 5-8pm Thai time (what time is that?) and hopefully we can have some fun and a bit of a laugh. If you were a regular before it will be great to catch up again. You can say anything silly\, since the meetings are never recorded\, they only take place in real time. \n\n\n\n\nHow to join?\nOnly members that are logged in on this website are able to see the link to the meeting\, the meeting ID and the Passcode here: \n[s2If current_user_can(access_s2member_level1)]\n \nTopic: Naked Zoom Chat \nJoin Zoom Meeting\nhttps://us02web.zoom.us/j/88574912168?pwd=https://us02web.zoom.us/j/88574912168?pwd=VjlpL0tSVXZvQjN6bHc3V3gwTTBFQT09 \nMeeting ID: 885 7491 2168\nPasscode: NAT69\n[/s2If] \nDon’t see anything? Membership can be bought in the NATShop. \nPS. The room remains open – but empty – 24/7. Members are welcome to make private meetings.
URL:https://thailandnaturist.com/event/natchat-by-alan-friends/2024-09-21/
CATEGORIES:naturist events
ATTACH;FMTTYPE=image/jpeg:https://thailandnaturist.com/wp-content/uploads/2024/04/online-chat.jpg
ORGANIZER;CN="Naturist Association Thailand":MAILTO:info@thailandnaturist.com
END:VEVENT
BEGIN:VEVENT
DTSTART;TZID=Asia/Bangkok:20240922T170000
DTEND;TZID=Asia/Bangkok:20240922T235900
DTSTAMP:20260424T095717
CREATED:20240903T072412Z
LAST-MODIFIED:20240903T073819Z
UID:10000390-1727024400-1727049540@thailandnaturist.com
SUMMARY:Beach Camping in Cha-Am
DESCRIPTION:The next Kaew Beach event will be held on September 22nd and 23rd. . . Sunday and Monday. Please check the Hua Hin/ Cha am group page for all the details. Here are a few photos to whet your appetite:
URL:https://thailandnaturist.com/event/beach-camping-in-cha-am/
LOCATION:Kaew Beach\, Kaew Beach\, Puek tian\, Tha Yang District\,\, Phetchburi\, Phetchaburi\, 76130\, Thailand
CATEGORIES:naturist events
ATTACH;FMTTYPE=image/jpeg:https://thailandnaturist.com/wp-content/uploads/2024/09/kaew.jpg
END:VEVENT
BEGIN:VEVENT
DTSTART;TZID=Asia/Bangkok:20240923T000000
DTEND;TZID=Asia/Bangkok:20240923T150000
DTSTAMP:20260424T095717
CREATED:20240903T073033Z
LAST-MODIFIED:20240903T073826Z
UID:10000391-1727049600-1727103600@thailandnaturist.com
SUMMARY:Beach Camping in Cha-Am
DESCRIPTION:The next Kaew Beach event will be held on September 22nd and 23rd. . . Sunday and Monday. Please check the Hua Hin/ Cha am group page for all the details. Here are a few photos to whet your appetite:
URL:https://thailandnaturist.com/event/beach-camping-in-cha-am-2/
CATEGORIES:naturist events
ATTACH;FMTTYPE=image/jpeg:https://thailandnaturist.com/wp-content/uploads/2024/09/kaew.jpg
END:VEVENT
BEGIN:VEVENT
DTSTART;TZID=Asia/Bangkok:20240928T170000
DTEND;TZID=Asia/Bangkok:20240928T200000
DTSTAMP:20260424T095717
CREATED:20240412T072543Z
LAST-MODIFIED:20240423T055308Z
UID:10000339-1727542800-1727553600@thailandnaturist.com
SUMMARY:NATChat
DESCRIPTION:The live NATChat on Zoom is back!\n\nRemember in early 2020 when the whole world closed down for Covid? It was going to be the end of the world as we know it. We were all stuck at home\, whole countries were locked down and no one could go anywhere? \nThen NAT started Zoom chat. Every Friday\, Saturday and Sunday night. We met people from all over the world\, Australia\, Canada\, India\, Europe\, England and Thailand. Some nights turned into a massive party and went on till the early hours of the morning. I have since met most of those people in person and we all regularly keep in touch. \nAt the suggestion of a few people\, we are going to bring Zoom back. Every Saturday night from 5-8pm Thai time we will have a moderator and anyone can join. You have to join to find out who is the host this Saturday. \nCome in this Saturday night between 5-8pm Thai time (what time is that?) and hopefully we can have some fun and a bit of a laugh. If you were a regular before it will be great to catch up again. You can say anything silly\, since the meetings are never recorded\, they only take place in real time. \n\n\n\n\nHow to join?\nOnly members that are logged in on this website are able to see the link to the meeting\, the meeting ID and the Passcode here: \n[s2If current_user_can(access_s2member_level1)]\n \nTopic: Naked Zoom Chat \nJoin Zoom Meeting\nhttps://us02web.zoom.us/j/88574912168?pwd=https://us02web.zoom.us/j/88574912168?pwd=VjlpL0tSVXZvQjN6bHc3V3gwTTBFQT09 \nMeeting ID: 885 7491 2168\nPasscode: NAT69\n[/s2If] \nDon’t see anything? Membership can be bought in the NATShop. \nPS. The room remains open – but empty – 24/7. Members are welcome to make private meetings.
URL:https://thailandnaturist.com/event/natchat-by-alan-friends/2024-09-28/
CATEGORIES:naturist events
ATTACH;FMTTYPE=image/jpeg:https://thailandnaturist.com/wp-content/uploads/2024/04/online-chat.jpg
ORGANIZER;CN="Naturist Association Thailand":MAILTO:info@thailandnaturist.com
END:VEVENT
END:VCALENDAR