BEGIN:VCALENDAR
VERSION:2.0
PRODID:-//Naturist Association Thailand - ECPv6.15.18//NONSGML v1.0//EN
CALSCALE:GREGORIAN
METHOD:PUBLISH
X-WR-CALNAME:Naturist Association Thailand
X-ORIGINAL-URL:https://thailandnaturist.com
X-WR-CALDESC:Events for Naturist Association Thailand
REFRESH-INTERVAL;VALUE=DURATION:PT1H
X-Robots-Tag:noindex
X-PUBLISHED-TTL:PT1H
BEGIN:VTIMEZONE
TZID:Asia/Bangkok
BEGIN:STANDARD
TZOFFSETFROM:+0700
TZOFFSETTO:+0700
TZNAME:+07
DTSTART:20230101T000000
END:STANDARD
END:VTIMEZONE
BEGIN:VEVENT
DTSTART;TZID=Asia/Bangkok:20240402T080000
DTEND;TZID=Asia/Bangkok:20240629T170000
DTSTAMP:20260424T214105
CREATED:20240403T065901Z
LAST-MODIFIED:20240403T065901Z
UID:10000315-1712044800-1719680400@thailandnaturist.com
SUMMARY:Phuket: Naturist Beaches & Island Trip by Speed Boat
DESCRIPTION:Naturist Beaches And Island Trip By Speed Boat \nProgram 10.00 – 16.00 hrs.\n10.00 Leave from the Peace Blue resort\n10.30 – 12.00 Enjoy swimming and snorkeling\n12.00 – 13.00 Lunch serving\n13.00 – 14.30 Relaxing time on the beaches\n14.30 – 15.30 Water activities\n16.00 Arrive to resort \nIncluded:\n1. Speed boat and round trip transfer\n2. Lunch & Skewer on the grills\n3. Seasonal Fruits\n4. Soft Drinks\n5. Snorkeling and Life jacket\n6. Tour Guide \nExcluded:\n1. Alcoholic Drinks\n2. Additional transfer route apart from Peace Blue Resort \n  \nBook at: reservation@peaceblueresortphuket.com\nCall & Whatsapp: +66 61 5394965 \nVisit Peace Blue Resort website for more information.
URL:https://thailandnaturist.com/event/phuket-naturist-beaches-island-trip-by-speed-boat/
LOCATION:Peace Blue Naiharn Naturist Resort\, Phuket\, Peace Blue Naiharn Naturist Resort Phuket\, 69 93 Soi Kokyang\, Rawai\, Mueang Phuket District\, Phuket\, Phuket\, 83100\, Thailand
CATEGORIES:naturist events
ATTACH;FMTTYPE=image/jpeg:https://thailandnaturist.com/wp-content/uploads/2023/12/2023-11-20-23-27-52-803b8-scaled.jpeg
ORGANIZER;CN="Peace Blue Naiharn Naturist Resort Phuket":MAILTO:info@peaceblueresortphuket.com
GEO:7.7909828;98.3192316
X-APPLE-STRUCTURED-LOCATION;VALUE=URI;X-ADDRESS=Peace Blue Naiharn Naturist Resort Phuket Peace Blue Naiharn Naturist Resort Phuket 69 93 Soi Kokyang Rawai Mueang Phuket District Phuket Phuket 83100 Thailand;X-APPLE-RADIUS=500;X-TITLE=Peace Blue Naiharn Naturist Resort Phuket\, 69 93 Soi Kokyang\, Rawai\, Mueang Phuket District:geo:98.3192316,7.7909828
END:VEVENT
BEGIN:VEVENT
DTSTART;TZID=Asia/Bangkok:20240420T170000
DTEND;TZID=Asia/Bangkok:20240420T200000
DTSTAMP:20260424T214106
CREATED:20240412T072543Z
LAST-MODIFIED:20240423T055308Z
UID:10000316-1713632400-1713643200@thailandnaturist.com
SUMMARY:NATChat
DESCRIPTION:The live NATChat on Zoom is back!\n\nRemember in early 2020 when the whole world closed down for Covid? It was going to be the end of the world as we know it. We were all stuck at home\, whole countries were locked down and no one could go anywhere? \nThen NAT started Zoom chat. Every Friday\, Saturday and Sunday night. We met people from all over the world\, Australia\, Canada\, India\, Europe\, England and Thailand. Some nights turned into a massive party and went on till the early hours of the morning. I have since met most of those people in person and we all regularly keep in touch. \nAt the suggestion of a few people\, we are going to bring Zoom back. Every Saturday night from 5-8pm Thai time we will have a moderator and anyone can join. You have to join to find out who is the host this Saturday. \nCome in this Saturday night between 5-8pm Thai time (what time is that?) and hopefully we can have some fun and a bit of a laugh. If you were a regular before it will be great to catch up again. You can say anything silly\, since the meetings are never recorded\, they only take place in real time. \n\n\n\n\nHow to join?\nOnly members that are logged in on this website are able to see the link to the meeting\, the meeting ID and the Passcode here: \n[s2If current_user_can(access_s2member_level1)]\n \nTopic: Naked Zoom Chat \nJoin Zoom Meeting\nhttps://us02web.zoom.us/j/88574912168?pwd=https://us02web.zoom.us/j/88574912168?pwd=VjlpL0tSVXZvQjN6bHc3V3gwTTBFQT09 \nMeeting ID: 885 7491 2168\nPasscode: NAT69\n[/s2If] \nDon’t see anything? Membership can be bought in the NATShop. \nPS. The room remains open – but empty – 24/7. Members are welcome to make private meetings.
URL:https://thailandnaturist.com/event/natchat-by-alan-friends/2024-04-20/
CATEGORIES:naturist events
ATTACH;FMTTYPE=image/jpeg:https://thailandnaturist.com/wp-content/uploads/2024/04/online-chat.jpg
ORGANIZER;CN="Naturist Association Thailand":MAILTO:info@thailandnaturist.com
END:VEVENT
BEGIN:VEVENT
DTSTART;TZID=Asia/Bangkok:20240421T083000
DTEND;TZID=Asia/Bangkok:20240421T170000
DTSTAMP:20260424T214106
CREATED:20230512T081038Z
LAST-MODIFIED:20240419T042647Z
UID:10000205-1713688200-1713718800@thailandnaturist.com
SUMMARY:Fishing & Snorkeling Boat Trip
DESCRIPTION:ภาษาไทยด้านล่าง \nOnly 1400 thb per person incl. lunch on board. \nHow to join? \n1. Buy the ticket \n2. Call: 094 772 1116 — 096 889 1112 — 081 629 0117 – and:\nTransfer to Kasikornbank acc.: 679-2-21215-6\nName: Naturist Association (Thailand) Co.\, Ltd.\nSend the slip to us so we know who paid! \n3. Use your creditcard with PayPal: Nude fishing & diving ticket 1400 THB/person \n  \nSchedule of the trip\n8:45  meet at the pier and register\n9:00 boat departure\n9:30 fishing activity starts\n11:30 move closer to island\n12:00 lunch on board (with our own fish\, if we caught any)\n13:00 Snorkeling around the boat\, maybe swim ashore if the sea is calm\n16:00 start going back\n17.00 arrive Bali Hai pier\n–\n17:30 winding down swim & dinner at Chan Resort (optional) \nBring your own towel\, sun screen\, book and beverages. The price includes lunch and use of the boat’s fishing equipment and life vests. If you want to swim or snorkel\, it is recommended that you bring your own mask and fins. \nIf you don’t want to fish or snorkel\, please come anyway just to relax on the boat. This is a unique opportunity in Thailand to join a nude day cruise! \nPaid or Premium members – please print your card or show it on your phone. If not yet a paying member\, you can upgrade at the pier. \nFurther dates through the rest of the year 2023 will be announced as they are planned. \nBook a room at Chan Resort on Saturday or Sunday here: https://www.chanresort.com/rooms  \n  \nโทร: 094 772 1116 — 096 889 1112 — 081 629 0117 – เพียง 1400 บาท/คน พร้อมอาหารกลางวัน. \nหรือ:\nโอนเงินเข้าธนาคารกสิกรไทย บัญชี: 679-2-21215-6\nชื่อ: Naturist Association (Thailand) Co.\, Ltd.\nส่งสลิปมาให้เรารู้นะว่าใครจ่าย! \nหรือ:\nใช้บัตรเครดิตของคุณกับ PayPal: จองตกปลาและดำน้ำ 1400 บาท/คน พร้อมอาหารกลางวัน \nกำหนดการเบื้องต้น\n08:45 น. ถึงท่าเรือและลงทะเบียน\n9:00 เรือออก\n09:30 เริ่มกิจกรรมตกปลา\n11:30 น. ย้ายเข้าไปใกล้เกาะมากขึ้น\n12:00 รับประทานอาหารกลางวันบนเรือ (ถ้าตกปลาได้เราจะมีปลาทอดของเราเอง)\n13:00 ดำน้ำตื้นกับชีวิตปลาสวยงามมากมายของแนวปะการัง\n16:00 เริ่มเดินทางกลับ\n17.00 น. ถึงท่าเรือบาลีฮาย\n–\n17:30 น. ว่ายน้ำและทานอาหารเย็นที่ชาญรีสอร์ท (ไม่บังคับ) \nนำผ้าเช็ดตัว ครีมกันแดด หนังสือและเครื่องดื่มมาเอง ราคานี้รวมอาหารกลางวันและการใช้อุปกรณ์ตกปลาและเสื้อชูชีพบนเรือ หากคุณต้องการว่ายน้ำหรือดำน้ำตื้น แนะนำให้นำหน้ากากและตีนกบมาเอง \nถ้าไม่อยากตกปลาหรือดำน้ำตื้น เชิญมาพักผ่อนบนเรือได้เลย นี่เป็นโอกาสพิเศษในประเทศไทยที่จะได้ร่วมเปลือยกายล่องเรือ! \nสมาชิกแบบชำระเงินหรือแบบพรีเมียม – โปรดพิมพ์บัตรของคุณหรือแสดงบนโทรศัพท์ของคุณ หากยังไม่ได้เป็นสมาชิกแบบชำระเงิน สามารถอัพเกรดได้ที่ท่าเรือ \nวันที่และจุดหมายปลายทางเพิ่มเติมจะประกาศตามแผน \nสำรองห้องพัก ชาญ รีสอร์ท เสาร์นี้ https://www.chanresort.com/rooms \n       \n \n 
URL:https://thailandnaturist.com/event/fishing-snorkeling-boat-trip-20/
LOCATION:Bali Hai Pier – we meet here: The cafe next to the stairs to the sand beach. Do NOT walk out on the pier\, please\, Bali Hai Pier\, WVG9+C4 Pattaya City\, Bang Lamung District\, Chon Buri\, Pattaya City\, Chon Buri\, 20150\, Thailand
ATTACH;FMTTYPE=image/jpeg:https://thailandnaturist.com/wp-content/uploads/2021/08/IMG_3849-scaled.jpg
ORGANIZER;CN="Naturist Association Thailand":MAILTO:info@thailandnaturist.com
GEO:12.9260047;100.8678184
X-APPLE-STRUCTURED-LOCATION;VALUE=URI;X-ADDRESS=Bali Hai Pier – we meet here: The cafe next to the stairs to the sand beach. Do NOT walk out on the pier please Bali Hai Pier WVG9+C4 Pattaya City Bang Lamung District Chon Buri Pattaya City Chon Buri 20150 Thailand;X-APPLE-RADIUS=500;X-TITLE=Bali Hai Pier\, WVG9+C4 Pattaya City\, Bang Lamung District\, Chon Buri:geo:100.8678184,12.9260047
END:VEVENT
BEGIN:VEVENT
DTSTART;TZID=Asia/Bangkok:20240427T170000
DTEND;TZID=Asia/Bangkok:20240427T200000
DTSTAMP:20260424T214106
CREATED:20240412T072543Z
LAST-MODIFIED:20240423T055308Z
UID:10000317-1714237200-1714248000@thailandnaturist.com
SUMMARY:NATChat
DESCRIPTION:The live NATChat on Zoom is back!\n\nRemember in early 2020 when the whole world closed down for Covid? It was going to be the end of the world as we know it. We were all stuck at home\, whole countries were locked down and no one could go anywhere? \nThen NAT started Zoom chat. Every Friday\, Saturday and Sunday night. We met people from all over the world\, Australia\, Canada\, India\, Europe\, England and Thailand. Some nights turned into a massive party and went on till the early hours of the morning. I have since met most of those people in person and we all regularly keep in touch. \nAt the suggestion of a few people\, we are going to bring Zoom back. Every Saturday night from 5-8pm Thai time we will have a moderator and anyone can join. You have to join to find out who is the host this Saturday. \nCome in this Saturday night between 5-8pm Thai time (what time is that?) and hopefully we can have some fun and a bit of a laugh. If you were a regular before it will be great to catch up again. You can say anything silly\, since the meetings are never recorded\, they only take place in real time. \n\n\n\n\nHow to join?\nOnly members that are logged in on this website are able to see the link to the meeting\, the meeting ID and the Passcode here: \n[s2If current_user_can(access_s2member_level1)]\n \nTopic: Naked Zoom Chat \nJoin Zoom Meeting\nhttps://us02web.zoom.us/j/88574912168?pwd=https://us02web.zoom.us/j/88574912168?pwd=VjlpL0tSVXZvQjN6bHc3V3gwTTBFQT09 \nMeeting ID: 885 7491 2168\nPasscode: NAT69\n[/s2If] \nDon’t see anything? Membership can be bought in the NATShop. \nPS. The room remains open – but empty – 24/7. Members are welcome to make private meetings.
URL:https://thailandnaturist.com/event/natchat-by-alan-friends/2024-04-27/
CATEGORIES:naturist events
ATTACH;FMTTYPE=image/jpeg:https://thailandnaturist.com/wp-content/uploads/2024/04/online-chat.jpg
ORGANIZER;CN="Naturist Association Thailand":MAILTO:info@thailandnaturist.com
END:VEVENT
BEGIN:VEVENT
DTSTART;TZID=Asia/Bangkok:20240428T170000
DTEND;TZID=Asia/Bangkok:20240429T170000
DTSTAMP:20260424T214106
CREATED:20240403T063856Z
LAST-MODIFIED:20240423T042043Z
UID:10000314-1714323600-1714410000@thailandnaturist.com
SUMMARY:BBQ and Beach Days in Cha-am
DESCRIPTION:PLEASE: RSVP so we know how many we will be!!  \n \nAll naturists are welcome to join this once-a-month event on Kaew Beach north of Cha-am\, a 2 hours drive from Bangkok.  The event is organised by the group: Hua Hin Cha-am Naturists  See details in the group.
URL:https://thailandnaturist.com/event/bbq-and-beach-days-in-cha-am-11/
LOCATION:Kaew Beach\, Kaew Beach\, Puek tian\, Tha Yang District\,\, Phetchburi\, Phetchaburi\, 76130\, Thailand
CATEGORIES:naturist events
ATTACH;FMTTYPE=image/jpeg:https://thailandnaturist.com/wp-content/uploads/2024/04/huahingroup-e1712127814466.jpeg
END:VEVENT
END:VCALENDAR