BEGIN:VCALENDAR
VERSION:2.0
PRODID:-//Naturist Association Thailand - ECPv6.15.18//NONSGML v1.0//EN
CALSCALE:GREGORIAN
METHOD:PUBLISH
X-WR-CALNAME:Naturist Association Thailand
X-ORIGINAL-URL:https://thailandnaturist.com
X-WR-CALDESC:Events for Naturist Association Thailand
REFRESH-INTERVAL;VALUE=DURATION:PT1H
X-Robots-Tag:noindex
X-PUBLISHED-TTL:PT1H
BEGIN:VTIMEZONE
TZID:Asia/Bangkok
BEGIN:STANDARD
TZOFFSETFROM:+0700
TZOFFSETTO:+0700
TZNAME:+07
DTSTART:20250101T000000
END:STANDARD
END:VTIMEZONE
BEGIN:VEVENT
DTSTART;TZID=Asia/Bangkok:20260405T090000
DTEND;TZID=Asia/Bangkok:20260405T170000
DTSTAMP:20260423T054938
CREATED:20250607T084052Z
LAST-MODIFIED:20251026T061913Z
UID:10000439-1775379600-1775408400@thailandnaturist.com
SUMMARY:Fishing & Snorkeling Boat Trip
DESCRIPTION:ภาษาไทยด้านล่าง \nOnly 1400 thb per person incl. lunch on board. +plus navy fee (150 baht for foreigners / 50 baht for Thais) if we get the opportunity to go ashore. \nHow to join? \n1. Buy the ticket \nOr\n2. Call: 094 772 1116 — 096 889 1112 — 081 629 0117 – and:\nTransfer to Kasikornbank acc.: 679-2-21215-6\nName: Naturist Association (Thailand) Co.\, Ltd.\nSend the slip to us so we know who paid! \nOr\n3. Use your creditcard with PayPal: Nude fishing & diving ticket 1400 THB/person \n  \nSchedule of the trip\n9:00 meet at the pier and register\n9:30 boat departure\n10:30 fishing activity starts\n11:30 move closer to island\n12:00 lunch on board (with our own fish\, if we caught any)\n13:00 Snorkeling around the boat\, maybe swim ashore if the sea is calm\n16:00 start going back\n17.00 arrive Bali Hai pier\n–\n17:30 winding down swim & dinner at Chan Resort (optional) \nBring your own towel\, sun screen\, book and beverages. The price includes lunch and use of the boat’s fishing equipment and life vests. If you want to swim or snorkel\, it is recommended that you bring your own mask and fins. \nIf you don’t want to fish or snorkel\, please come anyway just to relax on the boat. This is a unique opportunity in Thailand to join a nude day cruise! \nPaid or Premium members – please print your card or show it on your phone. If not yet a paying member\, you can upgrade at the pier. \nFurther dates through the rest of the year 2023 will be announced as they are planned. \nBook a room at Chan Resort on Friday or Saturday here: https://www.chanresort.com/rooms  \n  \nโทร: 094 772 1116 — 096 889 1112 — 081 629 0117 – เพียง 1400 บาท/คน พร้อมอาหารกลางวัน. \nหรือ:\nโอนเงินเข้าธนาคารกสิกรไทย บัญชี: 679-2-21215-6\nชื่อ: Naturist Association (Thailand) Co.\, Ltd.\nส่งสลิปมาให้เรารู้นะว่าใครจ่าย! \nหรือ:\nใช้บัตรเครดิตของคุณกับ PayPal: จองตกปลาและดำน้ำ 1400 บาท/คน พร้อมอาหารกลางวัน \nกำหนดการเบื้องต้น\n9:00 น. ถึงท่าเรือและลงทะเบียน\n09:30 เรือออก\n10:30 เริ่มกิจกรรมตกปลา\n11:30 ย้ายเข้าไปใกล้เกาะมากขึ้น\n12:00 รับประทานอาหารกลางวันบนเรือ (ถ้าตกปลาได้เราจะมีปลาทอดของเราเอง)\n13:00 ดำน้ำตื้นกับชีวิตปลาสวยงามมากมายของแนวปะการัง\n16:00 เริ่มเดินทางกลับ\n17.00 น. ถึงท่าเรือบาลีฮาย\n–\n17:30 น. ว่ายน้ำและทานอาหารเย็นที่ชาญรีสอร์ท (ไม่บังคับ) \nนำผ้าเช็ดตัว ครีมกันแดด หนังสือและเครื่องดื่มมาเอง ราคานี้รวมอาหารกลางวันและการใช้อุปกรณ์ตกปลาและเสื้อชูชีพบนเรือ หากคุณต้องการว่ายน้ำหรือดำน้ำตื้น แนะนำให้นำหน้ากากและตีนกบมาเอง \nถ้าไม่อยากตกปลาหรือดำน้ำตื้น เชิญมาพักผ่อนบนเรือได้เลย นี่เป็นโอกาสพิเศษในประเทศไทยที่จะได้ร่วมเปลือยกายล่องเรือ! \nสมาชิกแบบชำระเงินหรือแบบพรีเมียม – โปรดพิมพ์บัตรของคุณหรือแสดงบนโทรศัพท์ของคุณ หากยังไม่ได้เป็นสมาชิกแบบชำระเงิน สามารถอัพเกรดได้ที่ท่าเรือ \nวันที่และจุดหมายปลายทางเพิ่มเติมจะประกาศตามแผน \nสำรองห้องพัก ชาญ รีสอร์ท: https://www.chanresort.com/rooms \n       \n\n \n 
URL:https://thailandnaturist.com/event/fishing-snorkeling-boat-trip-26/
LOCATION:Bali Hai Pier – we meet here: The cafe next to the stairs to the sand beach. Do NOT walk out on the pier\, please\, Bali Hai Pier\, WVG9+C4 Pattaya City\, Bang Lamung District\, Chon Buri\, Pattaya City\, Chon Buri\, 20150\, Thailand
ATTACH;FMTTYPE=image/jpeg:https://thailandnaturist.com/wp-content/uploads/2020/08/received_1022536988196684-scaled.jpeg
ORGANIZER;CN="Naturist Association Thailand":MAILTO:info@thailandnaturist.com
GEO:12.9260047;100.8678184
X-APPLE-STRUCTURED-LOCATION;VALUE=URI;X-ADDRESS=Bali Hai Pier – we meet here: The cafe next to the stairs to the sand beach. Do NOT walk out on the pier please Bali Hai Pier WVG9+C4 Pattaya City Bang Lamung District Chon Buri Pattaya City Chon Buri 20150 Thailand;X-APPLE-RADIUS=500;X-TITLE=Bali Hai Pier\, WVG9+C4 Pattaya City\, Bang Lamung District\, Chon Buri:geo:100.8678184,12.9260047
END:VEVENT
BEGIN:VEVENT
DTSTART;TZID=Asia/Bangkok:20260418T160000
DTEND;TZID=Asia/Bangkok:20260418T220000
DTSTAMP:20260423T054938
CREATED:20260404T114129Z
LAST-MODIFIED:20260404T114206Z
UID:10000456-1776528000-1776549600@thailandnaturist.com
SUMMARY:Barefeet Naturist Resort's Foam Party\, Live Music\, Good Food and Fancy Cocktails
DESCRIPTION:Barefeet Naturist Resort’s legendary Foam & Cocktail Party starts at 4 PM and goes on until 22 PM. Come and enjoy the Salad and BBQ Buffet\, our specials cocktails our live music \nAdmission: 899.- THB per person. And NO charge of 80 THB per hour from 4 – 10 pm Buy here! \nEverything is included in the price: The foam party in the jacuzzi pool\, the light buffet dinner\, the special cocktails\, the live music\, your naked friends.
URL:https://thailandnaturist.com/event/barefeet-naturist-resorts-foam-party-live-music-good-food-and-fancy-cocktails-4/
LOCATION:Barefeet Naturist Resort\, Barefeet Naturist Resort\, 85 Soi Prasert-Manukitch 29\, Yaek 7\, Bangkok\, Bangkok\, 10230\, Thailand
ATTACH;FMTTYPE=image/jpeg:https://thailandnaturist.com/wp-content/uploads/2025/06/foam3a-e16937339337751-scaled-1.jpg
ORGANIZER;CN="Barefeet Naturist Resort":MAILTO:barefeetresort@gmail.com
GEO:13.8417488;100.6163118
X-APPLE-STRUCTURED-LOCATION;VALUE=URI;X-ADDRESS=Barefeet Naturist Resort Barefeet Naturist Resort 85 Soi Prasert-Manukitch 29 Yaek 7 Bangkok Bangkok 10230 Thailand;X-APPLE-RADIUS=500;X-TITLE=Barefeet Naturist Resort\, 85 Soi Prasert-Manukitch 29\, Yaek 7:geo:100.6163118,13.8417488
END:VEVENT
BEGIN:VEVENT
DTSTART;TZID=Asia/Bangkok:20260430T140000
DTEND;TZID=Asia/Bangkok:20260503T130000
DTSTAMP:20260423T054938
CREATED:20250607T084826Z
LAST-MODIFIED:20260413T042836Z
UID:10000440-1777557600-1777813200@thailandnaturist.com
SUMMARY:NATCON'Twenty6
DESCRIPTION:NATCON’Twenty6 will start on Thursday 30 April 2026 and end on Sunday 3 May 2026. \nIn Thailand\, Monday 4 May 2026 is (also) a holiday celebrating the Coronation of H.M. Vajiralongkorn or Rama 10\, so you can use this day to recover from the four days nude festival! \nLocation: The Tropical Beach Resort and Chivapuri Beach Resort \nBooking is open HERE . \nThe Tropical Beach Resort and Chivapuri Beach Resort are located on the same private beach next to each other. The difference between them is that The Chivapuri Beach Resort has a higher standard compared to the lower-key vibe of the thatched roof bungalows of Tropical Beach Resort. Both are clean and well maintained. \nThe resorts are on the outskirts of Mu Ko Chang National Park and 2 km from Bang-Bao Pier. The view across the sea is over to the islands to the south of Koh Chang. \nThe beach is sandy-stony\, and water shoes are recommended. \nThe resorts offer optional Thai massages and water sports\, along with motorbike rentals\, which NAT will not recommend as accidents are frequent among foreigners. Order a bike with a driver and wear a helmet if you must. \n  \n🧭 Getting to Koh Chang for NATCON’Twenty6\n✈️ Fly to Trat Airport\nAirline: Bangkok Airways\nFlight: PG305\nDate: Thursday 30 April 2026\nDeparture: 11:40 — Suvarnabhumi Airport (BKK)\nArrival: 12:40 — Trat Airport (TDX)\nDuration: 1 hour\nApproximate fare: 4\,000 THB \nFrom Trat Airport\, it’s a 20-minute ride to the pier and then a 30-minute ferry to Koh Chang. \n\n🚌 Public Bus and Van Options\nAll services below include guaranteed bus or van connections between bus\, ferry\, and taxi/van transfers to Koh Chang. Prices are per person and current as of booking in April 2026. The table is ordered by departure time so that you can easily see options in chronological order: \n\n\n\n\n\n\nOperator\nDeparture\nPick-up Point\nDuration\nArrival (approx.)\nPrice (THB)\n\n\n\n\nSuvarnabhumi Burapha\n07:00\nSuvarnabhumi Airport\n8 h (Bus + Ferry)\n15:00 – Haad Sai Khao Beach\n865\n\n\nAndaman Shuttle\n07:00\nHotel pickup in Bangkok\n7 h (Van + Ferry)\n14:00 – Koh Chang Hotel Transfer\n1\,650\n\n\nBoonsiri Ferry\n08:00\nKhao San Road office\n7 h (Van + Taxi)\n15:00 – Koh Chang Town\n1\,080\n\n\nNext Step Journey\n08:00\nKhao San Road office\n7 h 30 m (Bus + Ferry + Van)\n15:30 – Koh Chang Hotel Transfer\n1\,040\n\n\nMama Travel & Tour\n08:30\nKhao San Road office\n6 h 30 m (Van + Ferry + Taxi)\n15:00 – Koh Chang Town\n950\n\n\nKoh Kood Express\n08:30\nSuvarnabhumi Airport\n7 h (Bus + Ferry)\n15:30 – Ao Sapparot Pier\n1\,331\n\n\n\n\n\n✅ Tip: Early risers can leave Bangkok around 7:00 and reach Koh Chang mid-afternoon.Later departures around 8:30 will still arrive comfortably in time for the evening welcome at NATCON’Twenty6. \n\n\n🚗 Drive Yourself\nDriving to Koh Chang takes 5 to 6 hours from Bangkok via Route 344 (Ban Bueng – Klaeng) or Route 3 (Sukhumvit Road).Ferries to the island leave from Ao Thammachat Pier every 30 minutes (06:00 – 19:00).The crossing takes about 30 minutes and costs roughly 120 THB per person + 120 THB per vehicle. \n\n🚤 Private Transfers\nChivapuri Beach Resort may be able to help arrange a private van + ferry service from your hotel in Bangkok to your resort on Koh Chang. This is the most comfortable option for families or groups of 3 to to 10 people.Estimated cost: 8\,000 THB per van (one-way). This cost you can divide among the passengers on the van. \n\n🧳 Arrival Support\nWhen you arrive on Chivapuri / Tropical Beach\, NAT staff will meet you at Reception of Chivapuri for all participants to help with check-in. \nIf you send a copy of your passport to us\, we can help resorts with faster registration but if you prefer not to share your passport with NAT that is perfectly alright – then you simply join the special queue for you and likeminded members upon arrival. \n\n✅ Refund policy / Cancellation policy\nWe understand that plans may change\, and we aim to offer flexibility with the option to receive refunds in cash or in NATCoins\, the unique digital currency of Naturist Association Thailand. Please ensure you review and understand these terms when considering cancellations. \nRefund: \n\nBefore 31 March: 100%\n1 – 7 April: 50% (or 70% in NATCOINS)\n8 – 14 April: 40% (or 50% in NATCOINS)\n15 – 21 April: 20% (or 30% in NATCOINS\n22 April and onwards: 0%
URL:https://thailandnaturist.com/event/natcontwenty6/
LOCATION:Bangkok
ATTACH;FMTTYPE=image/jpeg:https://thailandnaturist.com/wp-content/uploads/2025/11/facilities18.jpg
END:VEVENT
BEGIN:VEVENT
DTSTART;TZID=Asia/Bangkok:20260501T170000
DTEND;TZID=Asia/Bangkok:20260501T180000
DTSTAMP:20260423T054938
CREATED:20260414T071250Z
LAST-MODIFIED:20260414T074650Z
UID:10000481-1777654800-1777658400@thailandnaturist.com
SUMMARY:🌴 NATCON BINGO - LIVE & Zoom! 🎉
DESCRIPTION:Friday 1 May 2026🕖 17:00 – 18:00 (Thai time) \nThis is a special NATCON BINGO – taking place LIVE at NATCON and ONLINE here! The format is the same as NATGO only online. \n💻 Where\nNATCON participants meet in Tropical Beach Resort Pavillion (‘TBR Pavillion’)\nNon-participants join on Zoom (the zoom link is below – the Bingo card link will be sent after registration) \n🎟 How it works\nEach participant will receive a link to their personal online NATGO Bingo card.When the host draws a number\, he will read the matching statement aloud — for example: \n\n“Number 12: Have you ever faked an orgasm?”  \n\nThe question must be answered truthfully. You can refuse to answer truthfully but it will cost you 50 NATCoins. We’ll take a moment to share experiences\, laugh together\, and hear quick stories before moving on to the next draw. The first participant to complete a full line (horizontal\, vertical\, or diagonal) shouts NATGO! 🏆 \nIf that does not happen before 18.00\, we will give the reward to whoever is closer to winning. \n💬 What makes this special\nThis is not just about winning — it’s about connecting with fellow naturists\, hearing funny and inspiring stories\, and feeling part of the NAT community\, wherever you are in the world. \n🎁 Prizes\nThe NATGO winner will receive an amount of NATCoins equivalent to the number of NATCoins deducted in penalties from participants refusing to answer a question. \n📝 Registration\nPlease register by clicking the RSVP on this event.You will then receive a link to your personal Online NATGO BINGO card. \n💻 Joining\nJoin Zoom Meeting\nhttps://us02web.zoom.us/j/88574912168\n\nMeeting ID: 885 7491 2168\n\nPasscode: NAT69
URL:https://thailandnaturist.com/event/%f0%9f%8c%b4-natcon-bingo-live-zoom-%f0%9f%8e%89/
LOCATION:Bangkok
ATTACH;FMTTYPE=image/png:https://thailandnaturist.com/wp-content/uploads/2025/10/natgo-bingo.png
ORGANIZER;CN="Naturist Association Thailand":MAILTO:info@thailandnaturist.com
END:VEVENT
BEGIN:VEVENT
DTSTART;TZID=Asia/Bangkok:20260523T160000
DTEND;TZID=Asia/Bangkok:20260523T220000
DTSTAMP:20260423T054938
CREATED:20250608T154641Z
LAST-MODIFIED:20260406T094930Z
UID:10000457-1779552000-1779573600@thailandnaturist.com
SUMMARY:Barefeet Naturist Resort's Foam Party\, Live Music\, Good Food and Fancy Cocktails
DESCRIPTION:Barefeet Naturist Resort’s legendary Foam & Cocktail Party starts at 4 PM and goes on until 22 PM. Come and enjoy the Salad and BBQ Buffet\, our specials cocktails our live music \nAdmission: 899.- THB per person. And NO charge of 80 THB per hour from 4 – 10 pm Buy here! \nEverything is included in the price: The foam party in the jacuzzi pool\, the light buffet dinner\, the special cocktails\, the live music\, your naked friends.
URL:https://thailandnaturist.com/event/barefeet-naturist-resorts-foam-party-live-music-good-food-and-fancy-cocktails-5/2026-05-23/
LOCATION:Barefeet Naturist Resort\, Barefeet Naturist Resort\, 85 Soi Prasert-Manukitch 29\, Yaek 7\, Bangkok\, Bangkok\, 10230\, Thailand
ATTACH;FMTTYPE=image/jpeg:https://thailandnaturist.com/wp-content/uploads/2025/06/foam3a-e16937339337751-scaled-1.jpg
ORGANIZER;CN="Barefeet Naturist Resort":MAILTO:barefeetresort@gmail.com
GEO:13.8417488;100.6163118
X-APPLE-STRUCTURED-LOCATION;VALUE=URI;X-ADDRESS=Barefeet Naturist Resort Barefeet Naturist Resort 85 Soi Prasert-Manukitch 29 Yaek 7 Bangkok Bangkok 10230 Thailand;X-APPLE-RADIUS=500;X-TITLE=Barefeet Naturist Resort\, 85 Soi Prasert-Manukitch 29\, Yaek 7:geo:100.6163118,13.8417488
END:VEVENT
BEGIN:VEVENT
DTSTART;TZID=Asia/Bangkok:20260620T160000
DTEND;TZID=Asia/Bangkok:20260620T220000
DTSTAMP:20260423T054938
CREATED:20260406T100231Z
LAST-MODIFIED:20260406T100231Z
UID:10000474-1781971200-1781992800@thailandnaturist.com
SUMMARY:Barefeet Naturist Resort's Foam Party\, Live Music\, Good Food and Fancy Cocktails
DESCRIPTION:Barefeet Naturist Resort’s legendary Foam & Cocktail Party starts at 4 PM and goes on until 22 PM. Come and enjoy the Salad and BBQ Buffet\, our specials cocktails our live music \nAdmission: 899.- THB per person. And NO charge of 80 THB per hour from 4 – 10 pm Buy here! \nEverything is included in the price: The foam party in the jacuzzi pool\, the light buffet dinner\, the special cocktails\, the live music\, your naked friends.
URL:https://thailandnaturist.com/event/barefeet-naturist-resorts-foam-party-live-music-good-food-and-fancy-cocktails-2026/2026-06-20/
LOCATION:Barefeet Naturist Resort\, Barefeet Naturist Resort\, 85 Soi Prasert-Manukitch 29\, Yaek 7\, Bangkok\, Bangkok\, 10230\, Thailand
ATTACH;FMTTYPE=image/jpeg:https://thailandnaturist.com/wp-content/uploads/2025/06/foam3a-e16937339337751-scaled-1.jpg
ORGANIZER;CN="Barefeet Naturist Resort":MAILTO:barefeetresort@gmail.com
GEO:13.8417488;100.6163118
X-APPLE-STRUCTURED-LOCATION;VALUE=URI;X-ADDRESS=Barefeet Naturist Resort Barefeet Naturist Resort 85 Soi Prasert-Manukitch 29 Yaek 7 Bangkok Bangkok 10230 Thailand;X-APPLE-RADIUS=500;X-TITLE=Barefeet Naturist Resort\, 85 Soi Prasert-Manukitch 29\, Yaek 7:geo:100.6163118,13.8417488
END:VEVENT
BEGIN:VEVENT
DTSTART;TZID=Asia/Bangkok:20260718T080000
DTEND;TZID=Asia/Bangkok:20260718T170000
DTSTAMP:20260423T054938
CREATED:20260406T100231Z
LAST-MODIFIED:20260406T100231Z
UID:10000475-1784361600-1784394000@thailandnaturist.com
SUMMARY:Barefeet Naturist Resort's Foam Party\, Live Music\, Good Food and Fancy Cocktails
DESCRIPTION:Barefeet Naturist Resort’s legendary Foam & Cocktail Party starts at 4 PM and goes on until 22 PM. Come and enjoy the Salad and BBQ Buffet\, our specials cocktails our live music \nAdmission: 899.- THB per person. And NO charge of 80 THB per hour from 4 – 10 pm Buy here! \nEverything is included in the price: The foam party in the jacuzzi pool\, the light buffet dinner\, the special cocktails\, the live music\, your naked friends.
URL:https://thailandnaturist.com/event/barefeet-naturist-resorts-foam-party-live-music-good-food-and-fancy-cocktails-2026/2026-07-18/
LOCATION:Barefeet Naturist Resort\, Barefeet Naturist Resort\, 85 Soi Prasert-Manukitch 29\, Yaek 7\, Bangkok\, Bangkok\, 10230\, Thailand
ATTACH;FMTTYPE=image/jpeg:https://thailandnaturist.com/wp-content/uploads/2025/06/foam3a-e16937339337751-scaled-1.jpg
ORGANIZER;CN="Barefeet Naturist Resort":MAILTO:barefeetresort@gmail.com
GEO:13.8417488;100.6163118
X-APPLE-STRUCTURED-LOCATION;VALUE=URI;X-ADDRESS=Barefeet Naturist Resort Barefeet Naturist Resort 85 Soi Prasert-Manukitch 29 Yaek 7 Bangkok Bangkok 10230 Thailand;X-APPLE-RADIUS=500;X-TITLE=Barefeet Naturist Resort\, 85 Soi Prasert-Manukitch 29\, Yaek 7:geo:100.6163118,13.8417488
END:VEVENT
BEGIN:VEVENT
DTSTART;TZID=Asia/Bangkok:20260822T080000
DTEND;TZID=Asia/Bangkok:20260822T170000
DTSTAMP:20260423T054938
CREATED:20260406T100231Z
LAST-MODIFIED:20260406T100231Z
UID:10000476-1787385600-1787418000@thailandnaturist.com
SUMMARY:Barefeet Naturist Resort's Foam Party\, Live Music\, Good Food and Fancy Cocktails
DESCRIPTION:Barefeet Naturist Resort’s legendary Foam & Cocktail Party starts at 4 PM and goes on until 22 PM. Come and enjoy the Salad and BBQ Buffet\, our specials cocktails our live music \nAdmission: 899.- THB per person. And NO charge of 80 THB per hour from 4 – 10 pm Buy here! \nEverything is included in the price: The foam party in the jacuzzi pool\, the light buffet dinner\, the special cocktails\, the live music\, your naked friends.
URL:https://thailandnaturist.com/event/barefeet-naturist-resorts-foam-party-live-music-good-food-and-fancy-cocktails-2026/2026-08-22/
LOCATION:Barefeet Naturist Resort\, Barefeet Naturist Resort\, 85 Soi Prasert-Manukitch 29\, Yaek 7\, Bangkok\, Bangkok\, 10230\, Thailand
ATTACH;FMTTYPE=image/jpeg:https://thailandnaturist.com/wp-content/uploads/2025/06/foam3a-e16937339337751-scaled-1.jpg
ORGANIZER;CN="Barefeet Naturist Resort":MAILTO:barefeetresort@gmail.com
GEO:13.8417488;100.6163118
X-APPLE-STRUCTURED-LOCATION;VALUE=URI;X-ADDRESS=Barefeet Naturist Resort Barefeet Naturist Resort 85 Soi Prasert-Manukitch 29 Yaek 7 Bangkok Bangkok 10230 Thailand;X-APPLE-RADIUS=500;X-TITLE=Barefeet Naturist Resort\, 85 Soi Prasert-Manukitch 29\, Yaek 7:geo:100.6163118,13.8417488
END:VEVENT
BEGIN:VEVENT
DTSTART;TZID=Asia/Bangkok:20260919T080000
DTEND;TZID=Asia/Bangkok:20260919T170000
DTSTAMP:20260423T054938
CREATED:20260406T100231Z
LAST-MODIFIED:20260406T100231Z
UID:10000477-1789804800-1789837200@thailandnaturist.com
SUMMARY:Barefeet Naturist Resort's Foam Party\, Live Music\, Good Food and Fancy Cocktails
DESCRIPTION:Barefeet Naturist Resort’s legendary Foam & Cocktail Party starts at 4 PM and goes on until 22 PM. Come and enjoy the Salad and BBQ Buffet\, our specials cocktails our live music \nAdmission: 899.- THB per person. And NO charge of 80 THB per hour from 4 – 10 pm Buy here! \nEverything is included in the price: The foam party in the jacuzzi pool\, the light buffet dinner\, the special cocktails\, the live music\, your naked friends.
URL:https://thailandnaturist.com/event/barefeet-naturist-resorts-foam-party-live-music-good-food-and-fancy-cocktails-2026/2026-09-19/
LOCATION:Barefeet Naturist Resort\, Barefeet Naturist Resort\, 85 Soi Prasert-Manukitch 29\, Yaek 7\, Bangkok\, Bangkok\, 10230\, Thailand
ATTACH;FMTTYPE=image/jpeg:https://thailandnaturist.com/wp-content/uploads/2025/06/foam3a-e16937339337751-scaled-1.jpg
ORGANIZER;CN="Barefeet Naturist Resort":MAILTO:barefeetresort@gmail.com
GEO:13.8417488;100.6163118
X-APPLE-STRUCTURED-LOCATION;VALUE=URI;X-ADDRESS=Barefeet Naturist Resort Barefeet Naturist Resort 85 Soi Prasert-Manukitch 29 Yaek 7 Bangkok Bangkok 10230 Thailand;X-APPLE-RADIUS=500;X-TITLE=Barefeet Naturist Resort\, 85 Soi Prasert-Manukitch 29\, Yaek 7:geo:100.6163118,13.8417488
END:VEVENT
BEGIN:VEVENT
DTSTART;TZID=Asia/Bangkok:20261024T080000
DTEND;TZID=Asia/Bangkok:20261024T170000
DTSTAMP:20260423T054938
CREATED:20260406T100231Z
LAST-MODIFIED:20260406T100231Z
UID:10000478-1792828800-1792861200@thailandnaturist.com
SUMMARY:Barefeet Naturist Resort's Foam Party\, Live Music\, Good Food and Fancy Cocktails
DESCRIPTION:Barefeet Naturist Resort’s legendary Foam & Cocktail Party starts at 4 PM and goes on until 22 PM. Come and enjoy the Salad and BBQ Buffet\, our specials cocktails our live music \nAdmission: 899.- THB per person. And NO charge of 80 THB per hour from 4 – 10 pm Buy here! \nEverything is included in the price: The foam party in the jacuzzi pool\, the light buffet dinner\, the special cocktails\, the live music\, your naked friends.
URL:https://thailandnaturist.com/event/barefeet-naturist-resorts-foam-party-live-music-good-food-and-fancy-cocktails-2026/2026-10-24/
LOCATION:Barefeet Naturist Resort\, Barefeet Naturist Resort\, 85 Soi Prasert-Manukitch 29\, Yaek 7\, Bangkok\, Bangkok\, 10230\, Thailand
ATTACH;FMTTYPE=image/jpeg:https://thailandnaturist.com/wp-content/uploads/2025/06/foam3a-e16937339337751-scaled-1.jpg
ORGANIZER;CN="Barefeet Naturist Resort":MAILTO:barefeetresort@gmail.com
GEO:13.8417488;100.6163118
X-APPLE-STRUCTURED-LOCATION;VALUE=URI;X-ADDRESS=Barefeet Naturist Resort Barefeet Naturist Resort 85 Soi Prasert-Manukitch 29 Yaek 7 Bangkok Bangkok 10230 Thailand;X-APPLE-RADIUS=500;X-TITLE=Barefeet Naturist Resort\, 85 Soi Prasert-Manukitch 29\, Yaek 7:geo:100.6163118,13.8417488
END:VEVENT
BEGIN:VEVENT
DTSTART;TZID=Asia/Bangkok:20261121T080000
DTEND;TZID=Asia/Bangkok:20261121T170000
DTSTAMP:20260423T054938
CREATED:20260406T100231Z
LAST-MODIFIED:20260406T100231Z
UID:10000479-1795248000-1795280400@thailandnaturist.com
SUMMARY:Barefeet Naturist Resort's Foam Party\, Live Music\, Good Food and Fancy Cocktails
DESCRIPTION:Barefeet Naturist Resort’s legendary Foam & Cocktail Party starts at 4 PM and goes on until 22 PM. Come and enjoy the Salad and BBQ Buffet\, our specials cocktails our live music \nAdmission: 899.- THB per person. And NO charge of 80 THB per hour from 4 – 10 pm Buy here! \nEverything is included in the price: The foam party in the jacuzzi pool\, the light buffet dinner\, the special cocktails\, the live music\, your naked friends.
URL:https://thailandnaturist.com/event/barefeet-naturist-resorts-foam-party-live-music-good-food-and-fancy-cocktails-2026/2026-11-21/
LOCATION:Barefeet Naturist Resort\, Barefeet Naturist Resort\, 85 Soi Prasert-Manukitch 29\, Yaek 7\, Bangkok\, Bangkok\, 10230\, Thailand
ATTACH;FMTTYPE=image/jpeg:https://thailandnaturist.com/wp-content/uploads/2025/06/foam3a-e16937339337751-scaled-1.jpg
ORGANIZER;CN="Barefeet Naturist Resort":MAILTO:barefeetresort@gmail.com
GEO:13.8417488;100.6163118
X-APPLE-STRUCTURED-LOCATION;VALUE=URI;X-ADDRESS=Barefeet Naturist Resort Barefeet Naturist Resort 85 Soi Prasert-Manukitch 29 Yaek 7 Bangkok Bangkok 10230 Thailand;X-APPLE-RADIUS=500;X-TITLE=Barefeet Naturist Resort\, 85 Soi Prasert-Manukitch 29\, Yaek 7:geo:100.6163118,13.8417488
END:VEVENT
BEGIN:VEVENT
DTSTART;TZID=Asia/Bangkok:20261219T080000
DTEND;TZID=Asia/Bangkok:20261219T170000
DTSTAMP:20260423T054938
CREATED:20260406T100231Z
LAST-MODIFIED:20260406T100231Z
UID:10000480-1797667200-1797699600@thailandnaturist.com
SUMMARY:Barefeet Naturist Resort's Foam Party\, Live Music\, Good Food and Fancy Cocktails
DESCRIPTION:Barefeet Naturist Resort’s legendary Foam & Cocktail Party starts at 4 PM and goes on until 22 PM. Come and enjoy the Salad and BBQ Buffet\, our specials cocktails our live music \nAdmission: 899.- THB per person. And NO charge of 80 THB per hour from 4 – 10 pm Buy here! \nEverything is included in the price: The foam party in the jacuzzi pool\, the light buffet dinner\, the special cocktails\, the live music\, your naked friends.
URL:https://thailandnaturist.com/event/barefeet-naturist-resorts-foam-party-live-music-good-food-and-fancy-cocktails-2026/2026-12-19/
LOCATION:Barefeet Naturist Resort\, Barefeet Naturist Resort\, 85 Soi Prasert-Manukitch 29\, Yaek 7\, Bangkok\, Bangkok\, 10230\, Thailand
ATTACH;FMTTYPE=image/jpeg:https://thailandnaturist.com/wp-content/uploads/2025/06/foam3a-e16937339337751-scaled-1.jpg
ORGANIZER;CN="Barefeet Naturist Resort":MAILTO:barefeetresort@gmail.com
GEO:13.8417488;100.6163118
X-APPLE-STRUCTURED-LOCATION;VALUE=URI;X-ADDRESS=Barefeet Naturist Resort Barefeet Naturist Resort 85 Soi Prasert-Manukitch 29 Yaek 7 Bangkok Bangkok 10230 Thailand;X-APPLE-RADIUS=500;X-TITLE=Barefeet Naturist Resort\, 85 Soi Prasert-Manukitch 29\, Yaek 7:geo:100.6163118,13.8417488
END:VEVENT
END:VCALENDAR