BEGIN:VCALENDAR
VERSION:2.0
PRODID:-//Naturist Association Thailand - ECPv6.15.18//NONSGML v1.0//EN
CALSCALE:GREGORIAN
METHOD:PUBLISH
X-ORIGINAL-URL:https://thailandnaturist.com
X-WR-CALDESC:Events for Naturist Association Thailand
REFRESH-INTERVAL;VALUE=DURATION:PT1H
X-Robots-Tag:noindex
X-PUBLISHED-TTL:PT1H
BEGIN:VTIMEZONE
TZID:Asia/Bangkok
BEGIN:STANDARD
TZOFFSETFROM:+0700
TZOFFSETTO:+0700
TZNAME:+07
DTSTART:20250101T000000
END:STANDARD
END:VTIMEZONE
BEGIN:VEVENT
DTSTART;TZID=Asia/Bangkok:20260117T110000
DTEND;TZID=Asia/Bangkok:20260117T160000
DTSTAMP:20260422T235701
CREATED:20260115T093818Z
LAST-MODIFIED:20260115T101445Z
UID:10000468-1768647600-1768665600@thailandnaturist.com
SUMMARY:Nude Modeling Event is here again @ Barefeet Bangkok
DESCRIPTION:When: Saturday 17 January 2026\nWhere: Barefeet Naturist Resort\, Lad Phrao\, Bangkok\nGoogle map: Here\nSchedule: 11:00-16:00 (11 am – 4 pm) – individual/couples sketches/group sketch session\n\n11.00 artists arrive and have lunch\n13.00 artists set up studio stages & welcome meeting\n13:30- 15:30 artists working on individual/couples sketches\n16:00 Presentation of work with Q&A\n\nPurpose:\n1. To encourage a healthy body image.\n2. To promote the drawing skills of artists in drawing the body. \nDetails\nThis activity promotes artistic skills and a positive attitude towards the human body\, it is not an activity for profit. \nNaturists have the rare opportunity to try to be nude model as a group or as individuals. This way naturists can contribute to the art world by offering aspiring artists as well as experienced artists to draw or paint our naked bodies. \nIf you come to be a model\, there is no charge for the event. If you want to join for the special atmosphere\, you pay only the regular day visit fee of 80 Baht/hour. Artists and those who are interested in art can participate. You can bring your favorite drawing equipment to the resort on the event date. \nNaturist Association Thailand provides drinks and snacks. You can order food at your own expense from Chef Nui’s kitchen. \nNAT will resume organizing this event every month. Further dates and locations will be announced as they are planned. \nThis is a unique opportunity in Thailand to attend a nude modelling session – with you being in the nude! \nIf you don’t want to be drawn\, please come anyway just to see the drawings that some of the artists bring to show and hear them explain about their technique and what fascinates them about “Life Drawing”. \nIf you wish one of the artists to draw exclusive sketches of you for you to take home with you\, please agree on the price before the artist starts working \nPlease RSVP.
URL:https://thailandnaturist.com/event/nude-modeling-event-is-here-again-barefeet-bangkok/
LOCATION:Barefeet Naturist Resort\, Barefeet Naturist Resort\, 85 Soi Prasert-Manukitch 29\, Yaek 7\, Bangkok\, Bangkok\, 10230\, Thailand
ATTACH;FMTTYPE=image/png:https://thailandnaturist.com/wp-content/uploads/2023/07/nude-model-gif.png
ORGANIZER;CN="Naturist Association Thailand":MAILTO:info@thailandnaturist.com
GEO:13.8417488;100.6163118
X-APPLE-STRUCTURED-LOCATION;VALUE=URI;X-ADDRESS=Barefeet Naturist Resort Barefeet Naturist Resort 85 Soi Prasert-Manukitch 29 Yaek 7 Bangkok Bangkok 10230 Thailand;X-APPLE-RADIUS=500;X-TITLE=Barefeet Naturist Resort\, 85 Soi Prasert-Manukitch 29\, Yaek 7:geo:100.6163118,13.8417488
END:VEVENT
BEGIN:VEVENT
DTSTART;TZID=Asia/Bangkok:20260117T160000
DTEND;TZID=Asia/Bangkok:20260117T220000
DTSTAMP:20260422T235701
CREATED:20250608T154641Z
LAST-MODIFIED:20260406T094930Z
UID:10000453-1768665600-1768687200@thailandnaturist.com
SUMMARY:Barefeet Naturist Resort's Foam Party\, Live Music\, Good Food and Fancy Cocktails
DESCRIPTION:Barefeet Naturist Resort’s legendary Foam & Cocktail Party starts at 4 PM and goes on until 22 PM. Come and enjoy the Salad and BBQ Buffet\, our specials cocktails our live music \nAdmission: 899.- THB per person. And NO charge of 80 THB per hour from 4 – 10 pm Buy here! \nEverything is included in the price: The foam party in the jacuzzi pool\, the light buffet dinner\, the special cocktails\, the live music\, your naked friends.
URL:https://thailandnaturist.com/event/barefeet-naturist-resorts-foam-party-live-music-good-food-and-fancy-cocktails-5/2026-01-17/
LOCATION:Barefeet Naturist Resort\, Barefeet Naturist Resort\, 85 Soi Prasert-Manukitch 29\, Yaek 7\, Bangkok\, Bangkok\, 10230\, Thailand
ATTACH;FMTTYPE=image/jpeg:https://thailandnaturist.com/wp-content/uploads/2025/06/foam3a-e16937339337751-scaled-1.jpg
ORGANIZER;CN="Barefeet Naturist Resort":MAILTO:barefeetresort@gmail.com
GEO:13.8417488;100.6163118
X-APPLE-STRUCTURED-LOCATION;VALUE=URI;X-ADDRESS=Barefeet Naturist Resort Barefeet Naturist Resort 85 Soi Prasert-Manukitch 29 Yaek 7 Bangkok Bangkok 10230 Thailand;X-APPLE-RADIUS=500;X-TITLE=Barefeet Naturist Resort\, 85 Soi Prasert-Manukitch 29\, Yaek 7:geo:100.6163118,13.8417488
END:VEVENT
END:VCALENDAR