BEGIN:VCALENDAR
VERSION:2.0
PRODID:-//Naturist Association Thailand - ECPv6.15.18//NONSGML v1.0//EN
CALSCALE:GREGORIAN
METHOD:PUBLISH
X-WR-CALNAME:Naturist Association Thailand
X-ORIGINAL-URL:https://thailandnaturist.com
X-WR-CALDESC:Events for Naturist Association Thailand
REFRESH-INTERVAL;VALUE=DURATION:PT1H
X-Robots-Tag:noindex
X-PUBLISHED-TTL:PT1H
BEGIN:VTIMEZONE
TZID:Asia/Bangkok
BEGIN:STANDARD
TZOFFSETFROM:+0700
TZOFFSETTO:+0700
TZNAME:+07
DTSTART:20240101T000000
END:STANDARD
END:VTIMEZONE
BEGIN:VEVENT
DTSTART;TZID=Asia/Bangkok:20251104T190000
DTEND;TZID=Asia/Bangkok:20251104T210000
DTSTAMP:20260423T082519
CREATED:20251020T110257Z
LAST-MODIFIED:20251020T112940Z
UID:10000464-1762282800-1762290000@thailandnaturist.com
SUMMARY:🌴 NATGO BINGO Nights on Zoom! 🎉
DESCRIPTION:Tuesday 4 November 2025🕖 19:00 – 21:00 (Thai time)Upcoming Dates: First Tuesday of each month:\n4 November • 2 December • 6 January \n💬 Have you ever…\n…done morning yoga naked on the beach?…been body painted at a naturist event?…gone skinny dipping under the stars? \nThen this game is for you! \nJoin us for Online NATGO BINGO Night\, a fun and social evening where every number tells a story — and every story brings us closer together. \n💻 Where\nZoom (link will be sent after registration) \n🎟 How it works\nEach participant will receive a link to their personal online NATGO BINGO card.When the host draws a number\, he will read the matching statement aloud — for example: \n\n“Number 28: I have body painted somebody or been body painted.” \n\nTwo participants must confirm that the statement fits them before everyone can cross off 28 on their Bingo card. \nWe’ll take a moment to share experiences\, laugh together\, and hear quick stories before moving on to the next draw. The first participant to complete a full line (horizontal\, vertical\, or diagonal) shouts NATGO! 🏆 \n💬 What makes this special\nThis is not just about winning — it’s about connecting with fellow naturists\, hearing funny and inspiring stories\, and feeling part of the NAT community\, wherever you are in the world. \n🎁 Prizes\nFor every NATGO we will add an amount of NATCoins to your account. Let’s see how many NATGOs we have before we start talking big prizes! \n📝 Registration\nPlease register before each event date by clicking the RSVP on the specific event.You will then receive a link to your personal Online NATGO BINGO card and the Zoom link.
URL:https://thailandnaturist.com/event/natgo-bingo-nights-on-zoom/
ATTACH;FMTTYPE=image/png:https://thailandnaturist.com/wp-content/uploads/2025/10/natgo-bingo.png
ORGANIZER;CN="Naturist Association Thailand":MAILTO:info@thailandnaturist.com
END:VEVENT
END:VCALENDAR