BEGIN:VCALENDAR
VERSION:2.0
PRODID:-//Naturist Association Thailand - ECPv6.15.18//NONSGML v1.0//EN
CALSCALE:GREGORIAN
METHOD:PUBLISH
X-ORIGINAL-URL:https://thailandnaturist.com
X-WR-CALDESC:Events for Naturist Association Thailand
REFRESH-INTERVAL;VALUE=DURATION:PT1H
X-Robots-Tag:noindex
X-PUBLISHED-TTL:PT1H
BEGIN:VTIMEZONE
TZID:Asia/Bangkok
BEGIN:STANDARD
TZOFFSETFROM:+0700
TZOFFSETTO:+0700
TZNAME:+07
DTSTART:20240101T000000
END:STANDARD
END:VTIMEZONE
BEGIN:VEVENT
DTSTART;VALUE=DATE:20251017
DTEND;VALUE=DATE:20251020
DTSTAMP:20260423T102142
CREATED:20250429T111435Z
LAST-MODIFIED:20250820T070734Z
UID:10000428-1760659200-1760918399@thailandnaturist.com
SUMMARY:Bann Pae Cabana Beach Weekend
DESCRIPTION:Naturist Association Thailand invites you to a unique beach weekend at Bann Pae Cabana from Friday 17 October to Sunday 19 October 2025!\nEscape the city and join us for a relaxing naturist weekend at Bann Pae Cabana\, a family-owned beach resort tucked away at the peaceful end of Duang Tawan Beach in Rayong province. \nSince 1987\, Bann Pae Cabana has welcomed guests from around the world with its charming beachside bungalows\, swimming pool\, and cozy restaurant overlooking a private beach. The resort’s secluded location offers the perfect atmosphere for privacy\, tranquility\, and a true connection with nature — making it an ideal setting for naturists. \nGuests can enjoy refreshing swims\, sunset walks along the beach\, games of beach volleyball\, or simply unwinding under the shade of the pine trees. For those seeking adventure\, nearby islands are just a short speedboat ride away. \nBuy now: (Only logged in members can book) \n\nCouples – click here\nSingles – click here\n\nWith only 35 bungalows available\, spaces are limited — so early booking is recommended! \nFurther details regarding activities will be shared later. We look forward to seeing you there for an unforgettable naturist experience by the sea! \nTransportation: Several options available. See details here. \nNOTE: Children friendly! \nDao and Greg & Paul and Mui tested the resort in early July. We found that it is a great family location – so please consider bring your kids! Children under 3 years are free if they sleep in Mom and Dad’s bed. Over 3 year and below 15 years\, they will have their own extra bed in the room and the charge will be 1990 THB for the weekend including meals. \nKids under 3 years are free if sleeping in Mom and Dad’s bed. Kids over 3 will get a separate extra bed in your room at 1990 THB for the weekend. Please inform us in advance\, but no need to pay in advance – it will get on your individual bill at checkout. \nEnjoy our impressions of the kids corner on the beach! \n    \nOther photos from our trip: \n   \nGeneral photos that we verified are actually like this (!) \n   \n \n \n \n 
URL:https://thailandnaturist.com/event/bann-pae-cabana-beach-weekend/
CATEGORIES:naturist events
ATTACH;FMTTYPE=image/jpeg:https://thailandnaturist.com/wp-content/uploads/2025/04/banphe4.jpg
ORGANIZER;CN="Naturist Association Thailand":MAILTO:info@thailandnaturist.com
END:VEVENT
END:VCALENDAR