BEGIN:VCALENDAR
VERSION:2.0
PRODID:-//Naturist Association Thailand - ECPv6.15.18//NONSGML v1.0//EN
CALSCALE:GREGORIAN
METHOD:PUBLISH
X-WR-CALNAME:Naturist Association Thailand
X-ORIGINAL-URL:https://thailandnaturist.com
X-WR-CALDESC:Events for Naturist Association Thailand
REFRESH-INTERVAL;VALUE=DURATION:PT1H
X-Robots-Tag:noindex
X-PUBLISHED-TTL:PT1H
BEGIN:VTIMEZONE
TZID:Asia/Bangkok
BEGIN:STANDARD
TZOFFSETFROM:+0700
TZOFFSETTO:+0700
TZNAME:+07
DTSTART:20240101T000000
END:STANDARD
END:VTIMEZONE
BEGIN:VEVENT
DTSTART;TZID=Asia/Bangkok:20250726T110000
DTEND;TZID=Asia/Bangkok:20250726T180000
DTSTAMP:20260423T160432
CREATED:20250610T020122Z
LAST-MODIFIED:20250610T020735Z
UID:10000458-1753527600-1753552800@thailandnaturist.com
SUMMARY:Connexion Day with Cam the Purple Fairy
DESCRIPTION:Connexion Day with Cam the Purple Fairy
URL:https://thailandnaturist.com/event/connecion-day-with-cam-the-purple-fairy/
LOCATION:Barefeet Naturist Resort\, Barefeet Naturist Resort\, 85 Soi Prasert-Manukitch 29\, Yaek 7\, Bangkok\, Bangkok\, 10230\, Thailand
ATTACH;FMTTYPE=image/jpeg:https://thailandnaturist.com/wp-content/uploads/2025/06/2-5-scaled1-e1749457580671-scaled.jpg
ORGANIZER;CN="Barefeet Naturist Resort":MAILTO:barefeetresort@gmail.com
GEO:13.8417488;100.6163118
X-APPLE-STRUCTURED-LOCATION;VALUE=URI;X-ADDRESS=Barefeet Naturist Resort Barefeet Naturist Resort 85 Soi Prasert-Manukitch 29 Yaek 7 Bangkok Bangkok 10230 Thailand;X-APPLE-RADIUS=500;X-TITLE=Barefeet Naturist Resort\, 85 Soi Prasert-Manukitch 29\, Yaek 7:geo:100.6163118,13.8417488
END:VEVENT
BEGIN:VEVENT
DTSTART;TZID=Asia/Bangkok:20250726T170000
DTEND;TZID=Asia/Bangkok:20250727T150000
DTSTAMP:20260423T160432
CREATED:20250713T040756Z
LAST-MODIFIED:20250726T112113Z
UID:10000460-1753549200-1753628400@thailandnaturist.com
SUMMARY:STORM WARNING: Beach Camping in Cha-Am
DESCRIPTION:CANCELLED: The next KAEW BEACH CAMP will be held on July 26/27 Saturday/ Sunday. Please check the Hua Hin/ Cha am group page for all the details. \nNOTE: Sign up with the RSVP button only if you are sure you will be there. \nThe amazing sunrise photo was taken by K. Chai!\nIf you have any question please contact us @johnchas
URL:https://thailandnaturist.com/event/beach-camping-in-cha-am-10/
LOCATION:Kaew Beach\, Kaew Beach\, Puek tian\, Tha Yang District\,\, Phetchburi\, Phetchaburi\, 76130\, Thailand
CATEGORIES:naturist events
ATTACH;FMTTYPE=image/jpeg:https://thailandnaturist.com/wp-content/uploads/2025/07/kaew-beach-august.jpg
END:VEVENT
END:VCALENDAR