BEGIN:VCALENDAR
VERSION:2.0
PRODID:-//Naturist Association Thailand - ECPv6.15.18//NONSGML v1.0//EN
CALSCALE:GREGORIAN
METHOD:PUBLISH
X-ORIGINAL-URL:https://thailandnaturist.com
X-WR-CALDESC:Events for Naturist Association Thailand
REFRESH-INTERVAL;VALUE=DURATION:PT1H
X-Robots-Tag:noindex
X-PUBLISHED-TTL:PT1H
BEGIN:VTIMEZONE
TZID:Asia/Bangkok
BEGIN:STANDARD
TZOFFSETFROM:+0700
TZOFFSETTO:+0700
TZNAME:+07
DTSTART:20240101T000000
END:STANDARD
END:VTIMEZONE
BEGIN:VEVENT
DTSTART;TZID=Asia/Bangkok:20250510T083000
DTEND;TZID=Asia/Bangkok:20250510T170000
DTSTAMP:20260423T195850
CREATED:20240903T083709Z
LAST-MODIFIED:20250507T112121Z
UID:10000399-1746865800-1746896400@thailandnaturist.com
SUMMARY:Speed Boat Island Trip from Pattaya
DESCRIPTION:Join our popular island trip about 45 minutes off the coast from Pattaya! \nSchedule of the trip\n9:00  meet and register at the cafe to the East of the Bali Hai harbour building. Map here!\n9:30   boat departure\n10:15   arrival at the beach\, setting up camp under the shady bushes.\n10:30 departure for members who would like to fish from the boat\n12:00 lunch on the beach. (Bring something to share.)\n14:00 Water game\n16:00 start going back\n17.00 arrive Bali Hai pier\n–\n17:30 winding down swim & dinner at Chan Resort (optional) \nThere is snorkeling equipment and fishing equipment on board the boat and they offer water and snacks. Limited tickets: 16 passengers only. \nBring your own towel\, sun screen\, book\, some food to share and own beverages. Water is on the boat. \nOnly 1400 thb per person. \n\nBuy the number of tickets you need with the app on the top of this page.\nAlternatively\, you can buy directly with PayPal: Nude fishing & diving ticket 1400 THB/person.\nOr bank transfer 1.400 THB to Kasikornbank acc.: 679-2-21215-6 (Naturist Association (Thailand) Co.\, Ltd.)\nIf you choose bank transfer\, please include your member ID number from your NAT profile. Please also send the slip as a direct message to memberadmin\n\nPaid or Premium members – please print your card or show it on your phone. If not yet a paying member\, you can upgrade at the pier. \nBook a room at Chan Resort on Friday or Saturday here: https://www.chanresort.com/rooms \n \n \n 
URL:https://thailandnaturist.com/event/speed-boat-island-trip-from-pattaya-9/
LOCATION:Bali Hai Pier – we meet here: The cafe next to the stairs to the sand beach. Do NOT walk out on the pier\, please\, Bali Hai Pier\, WVG9+C4 Pattaya City\, Bang Lamung District\, Chon Buri\, Pattaya City\, Chon Buri\, 20150\, Thailand
ATTACH;FMTTYPE=image/jpeg:https://thailandnaturist.com/wp-content/uploads/2024/09/beach1-scaled-1.jpg
ORGANIZER;CN="Naturist Association Thailand":MAILTO:info@thailandnaturist.com
GEO:12.9260047;100.8678184
X-APPLE-STRUCTURED-LOCATION;VALUE=URI;X-ADDRESS=Bali Hai Pier – we meet here: The cafe next to the stairs to the sand beach. Do NOT walk out on the pier please Bali Hai Pier WVG9+C4 Pattaya City Bang Lamung District Chon Buri Pattaya City Chon Buri 20150 Thailand;X-APPLE-RADIUS=500;X-TITLE=Bali Hai Pier\, WVG9+C4 Pattaya City\, Bang Lamung District\, Chon Buri:geo:100.8678184,12.9260047
END:VEVENT
BEGIN:VEVENT
DTSTART;TZID=Asia/Bangkok:20250510T090000
DTEND;TZID=Asia/Bangkok:20250510T183000
DTSTAMP:20260423T195850
CREATED:20250508T054836Z
LAST-MODIFIED:20250508T072923Z
UID:10000431-1746867600-1746901800@thailandnaturist.com
SUMMARY:A Day to Deepen Your Connections – With Yourself and Others
DESCRIPTION:This coming Saturday 10 May at Barefeet Naturist Resort is a chance to try something new – in the nude! \nStep into a day designed to nourish your heart\, challenge your mind\, and strengthen your bonds – with yourself and the people around you. \nWhether you come with your partner\, a friend\, or on your own\, you’ll leave feeling more connected\, open\, and alive. \nWhat’s Up? \nMorning Session: Authentic Relating – one of the success events from NATCON25\nThrough gentle and playful exercises\, you’ll learn to listen more deeply\, express yourself with clarity and honesty\, and become more present in your interactions. This is not about therapy – this is about real human connection. \nAfternoon Session: “Remember\, We Are One”\nJoin in a powerful and moving question game\, created by our facilitator\, Cam the “Purple Fairy”\, that sparks deeper conversations and helps us see each other beyond the surface. It’s fun\, it’s real\, and it brings people closer together. \nClosing Circle\nWe’ll end the day with a short sharing circle where we can reflect and say goodbye with a warm heart. \n\n🕘 Schedule: \n\n9:00 am – Arrivals and Welcome Snack\n10:00 am – Authentic Relating Session – do NOT arrive later than this\n1:00 pm – Shared Lunch (included)\n3:00 pm – Question Game\n6:00 pm – Sharing Circle and Goodbyes\n\n\n🎁 Included in the Price 750 THB per participant – and the Experience! \n\nMorning snack & delicious lunch\nFull participation in both sessions\nYour own copy of the “Remember\, We Are One” question game to take home\n\n\n💫 Come with an open heart—and bring a friend if you’d like!\nArrive no later than 10:00 am to join the full experience.
URL:https://thailandnaturist.com/event/a-day-to-deepen-your-connections-with-yourself-and-others/
LOCATION:Barefeet Naturist Resort\, Barefeet Naturist Resort\, 85 Soi Prasert-Manukitch 29\, Yaek 7\, Bangkok\, Bangkok\, 10230\, Thailand
CATEGORIES:naturist events
ATTACH;FMTTYPE=image/jpeg:https://thailandnaturist.com/wp-content/uploads/2025/05/game2.jpg
ORGANIZER;CN="Barefeet Naturist Resort":MAILTO:barefeetresort@gmail.com
GEO:13.8417488;100.6163118
X-APPLE-STRUCTURED-LOCATION;VALUE=URI;X-ADDRESS=Barefeet Naturist Resort Barefeet Naturist Resort 85 Soi Prasert-Manukitch 29 Yaek 7 Bangkok Bangkok 10230 Thailand;X-APPLE-RADIUS=500;X-TITLE=Barefeet Naturist Resort\, 85 Soi Prasert-Manukitch 29\, Yaek 7:geo:100.6163118,13.8417488
END:VEVENT
END:VCALENDAR