BEGIN:VCALENDAR
VERSION:2.0
PRODID:-//Naturist Association Thailand - ECPv6.15.18//NONSGML v1.0//EN
CALSCALE:GREGORIAN
METHOD:PUBLISH
X-ORIGINAL-URL:https://thailandnaturist.com
X-WR-CALDESC:Events for Naturist Association Thailand
REFRESH-INTERVAL;VALUE=DURATION:PT1H
X-Robots-Tag:noindex
X-PUBLISHED-TTL:PT1H
BEGIN:VTIMEZONE
TZID:Asia/Bangkok
BEGIN:STANDARD
TZOFFSETFROM:+0700
TZOFFSETTO:+0700
TZNAME:+07
DTSTART:20240101T000000
END:STANDARD
END:VTIMEZONE
BEGIN:VEVENT
DTSTART;TZID=Asia/Bangkok:20250427T170000
DTEND;TZID=Asia/Bangkok:20250428T150000
DTSTAMP:20260423T195852
CREATED:20250320T023848Z
LAST-MODIFIED:20250403T081709Z
UID:10000425-1745773200-1745852400@thailandnaturist.com
SUMMARY:Beach Camping in Cha-Am
DESCRIPTION:The Camping weekend on Kaew Beach with BBQ and night walk will be held on Sunday 27 and Monday 28 April 2025 if enough people sign up. Please check the Hua Hin/ Cha am group page for all the details. \nNOTE: Sign up with the RSVP button only if you are sure you will be there. \n \nIf you have any question please contact us \nTel: +66968891112 \nEmail: info@thailandnaturist.com
URL:https://thailandnaturist.com/event/beach-camping-in-cha-am-8/
LOCATION:Kaew Beach\, Kaew Beach\, Puek tian\, Tha Yang District\,\, Phetchburi\, Phetchaburi\, 76130\, Thailand
CATEGORIES:naturist events
ATTACH;FMTTYPE=image/jpeg:https://thailandnaturist.com/wp-content/uploads/2024/09/kaew.jpg
END:VEVENT
END:VCALENDAR