BEGIN:VCALENDAR
VERSION:2.0
PRODID:-//Naturist Association Thailand - ECPv6.15.18//NONSGML v1.0//EN
CALSCALE:GREGORIAN
METHOD:PUBLISH
X-ORIGINAL-URL:https://thailandnaturist.com
X-WR-CALDESC:Events for Naturist Association Thailand
REFRESH-INTERVAL;VALUE=DURATION:PT1H
X-Robots-Tag:noindex
X-PUBLISHED-TTL:PT1H
BEGIN:VTIMEZONE
TZID:Asia/Bangkok
BEGIN:STANDARD
TZOFFSETFROM:+0700
TZOFFSETTO:+0700
TZNAME:+07
DTSTART:20240101T000000
END:STANDARD
END:VTIMEZONE
BEGIN:VEVENT
DTSTART;TZID=Asia/Bangkok:20250412T160000
DTEND;TZID=Asia/Bangkok:20250412T233000
DTSTAMP:20260423T221436
CREATED:20250316T154117Z
LAST-MODIFIED:20250324T163023Z
UID:10000424-1744473600-1744500600@thailandnaturist.com
SUMMARY:Barefeet Songkran Foam Party
DESCRIPTION:Get ready for the wettest\, wildest\, and most refreshing Songkran celebration ever! \nBarefeet Naturist Resort invites you to join us on Saturday 12 April 2025 for a special Songkran Foam Party – blending our traditional Thai New Year celebration with the fun and excitement of our popular foam parties! \nIn past years\, we’ve celebrated Songkran with water splashing\, dancing\, and good vibes all around. More recently\, our Foam Parties have added a new layer of bubbly fun to the Barefeet experience. Now\, for the first time\, we’re bringing them together for one unforgettable event! \nExpect LIVE music\, foam\, water play\, games\, and plenty of time to relax and enjoy the naturist atmosphere with friends old and new. Bring that special one and enjoy a romantic naked dinner! \nWhether you’re here to dance or chill\, you’re guaranteed a fantastic time. \n📅 Date: Saturday 12 April 2025\n🕚 Time: From 16:00 until late\n📍 Location: Barefeet Naturist Resort\, Bangkok \nThis event is open to naturist members and their guests only. Overnight stays available – book early to secure your spot! \nLet’s make a splash together this Songkran!
URL:https://thailandnaturist.com/event/barefeet-songkran-party/
LOCATION:Barefeet Naturist Resort\, Barefeet Naturist Resort\, 85 Soi Prasert-Manukitch 29\, Yaek 7\, Bangkok\, Bangkok\, 10230\, Thailand
ATTACH;FMTTYPE=image/png:https://thailandnaturist.com/wp-content/uploads/2021/03/nakeddinner.png
ORGANIZER;CN="Barefeet Naturist Resort":MAILTO:barefeetresort@gmail.com
GEO:13.8417488;100.6163118
X-APPLE-STRUCTURED-LOCATION;VALUE=URI;X-ADDRESS=Barefeet Naturist Resort Barefeet Naturist Resort 85 Soi Prasert-Manukitch 29 Yaek 7 Bangkok Bangkok 10230 Thailand;X-APPLE-RADIUS=500;X-TITLE=Barefeet Naturist Resort\, 85 Soi Prasert-Manukitch 29\, Yaek 7:geo:100.6163118,13.8417488
END:VEVENT
END:VCALENDAR