BEGIN:VCALENDAR
VERSION:2.0
PRODID:-//Naturist Association Thailand - ECPv6.15.18//NONSGML v1.0//EN
CALSCALE:GREGORIAN
METHOD:PUBLISH
X-ORIGINAL-URL:https://thailandnaturist.com
X-WR-CALDESC:Events for Naturist Association Thailand
REFRESH-INTERVAL;VALUE=DURATION:PT1H
X-Robots-Tag:noindex
X-PUBLISHED-TTL:PT1H
BEGIN:VTIMEZONE
TZID:Asia/Bangkok
BEGIN:STANDARD
TZOFFSETFROM:+0700
TZOFFSETTO:+0700
TZNAME:+07
DTSTART:20240101T000000
END:STANDARD
END:VTIMEZONE
BEGIN:VEVENT
DTSTART;TZID=Asia/Bangkok:20250215T160000
DTEND;TZID=Asia/Bangkok:20250215T220000
DTSTAMP:20260424T020115
CREATED:20250212T051121Z
LAST-MODIFIED:20250212T051504Z
UID:10000419-1739635200-1739656800@thailandnaturist.com
SUMMARY:Barefeet Foam & Cocktails Party
DESCRIPTION:
URL:https://thailandnaturist.com/event/barefeet-foam-cocktails-party-2/
LOCATION:Barefeet Naturist Resort\, Barefeet Naturist Resort\, 85 Soi Prasert-Manukitch 29\, Yaek 7\, Bangkok\, Bangkok\, 10230\, Thailand
ATTACH;FMTTYPE=image/jpeg:https://thailandnaturist.com/wp-content/uploads/2025/02/Foam-party-Feb-2025-scaled.jpg
ORGANIZER;CN="Barefeet Naturist Resort":MAILTO:barefeetresort@gmail.com
GEO:13.8417488;100.6163118
X-APPLE-STRUCTURED-LOCATION;VALUE=URI;X-ADDRESS=Barefeet Naturist Resort Barefeet Naturist Resort 85 Soi Prasert-Manukitch 29 Yaek 7 Bangkok Bangkok 10230 Thailand;X-APPLE-RADIUS=500;X-TITLE=Barefeet Naturist Resort\, 85 Soi Prasert-Manukitch 29\, Yaek 7:geo:100.6163118,13.8417488
END:VEVENT
END:VCALENDAR