BEGIN:VCALENDAR
VERSION:2.0
PRODID:-//Naturist Association Thailand - ECPv6.15.18//NONSGML v1.0//EN
CALSCALE:GREGORIAN
METHOD:PUBLISH
X-WR-CALNAME:Naturist Association Thailand
X-ORIGINAL-URL:https://thailandnaturist.com
X-WR-CALDESC:Events for Naturist Association Thailand
REFRESH-INTERVAL;VALUE=DURATION:PT1H
X-Robots-Tag:noindex
X-PUBLISHED-TTL:PT1H
BEGIN:VTIMEZONE
TZID:Asia/Bangkok
BEGIN:STANDARD
TZOFFSETFROM:+0700
TZOFFSETTO:+0700
TZNAME:+07
DTSTART:20230101T000000
END:STANDARD
END:VTIMEZONE
BEGIN:VEVENT
DTSTART;TZID=Asia/Bangkok:20241228T150000
DTEND;TZID=Asia/Bangkok:20241228T220000
DTSTAMP:20260424T061218
CREATED:20241222T011921Z
LAST-MODIFIED:20241222T012514Z
UID:10000413-1735398000-1735423200@thailandnaturist.com
SUMMARY:Xmas Foam & Anniversary Party & House Warming
DESCRIPTION:Barefeet is celebrating Christmas and 10 Year Anniversary and House Warming of two new Garden Homes with a one-of-a-kind Foam Party on 28 December 2024. We will start with the traditional Barefeet gift winning game and a nice BBQ dinner before moving to the blue pool – which will be heated up for the occasion. \nAdmission: 899.- thb per person. FREE hours. Tickets include BBQ\, 3 cocktail\, gift game\, lucky draw. \nChristmas Dinner:  \nThai BBQ + Oven roasted duck\, Swedish hot spicy wine ‘glögg’\, rice porridge Danish style with almonds\, slow cooked beef stew\, potato salad. \nFoam Party:  \nHeated pool + 3 Cocktails\, pool side music. \nGrand Opening:\n \nPresentation of new Garden Homes expansion of Barefeet Naturist Resort. \nEverything is included in the price: the foam party in the jacuzzi pool\, the Christmas dinner\, the Cocktails\, the games. There is no charging of day fee from 15.00 – 22.00 (normally 560 THB for 7 hours!) You only pay for your own beverages. \nMembers only. (Apply for membership here.)
URL:https://thailandnaturist.com/event/barefeet-white-christmas-snow-foam-party-with-xmas-dinner/
LOCATION:Barefeet Naturist Resort\, Barefeet Naturist Resort\, 85 Soi Prasert-Manukitch 29\, Yaek 7\, Bangkok\, Bangkok\, 10230\, Thailand
CATEGORIES:naturist events
ATTACH;FMTTYPE=image/jpeg:https://thailandnaturist.com/wp-content/uploads/2024/12/Barefoam-scaled.jpg
ORGANIZER;CN="Barefeet Naturist Resort":MAILTO:barefeetresort@gmail.com
GEO:13.8417488;100.6163118
X-APPLE-STRUCTURED-LOCATION;VALUE=URI;X-ADDRESS=Barefeet Naturist Resort Barefeet Naturist Resort 85 Soi Prasert-Manukitch 29 Yaek 7 Bangkok Bangkok 10230 Thailand;X-APPLE-RADIUS=500;X-TITLE=Barefeet Naturist Resort\, 85 Soi Prasert-Manukitch 29\, Yaek 7:geo:100.6163118,13.8417488
END:VEVENT
END:VCALENDAR