BEGIN:VCALENDAR
VERSION:2.0
PRODID:-//Naturist Association Thailand - ECPv6.15.18//NONSGML v1.0//EN
CALSCALE:GREGORIAN
METHOD:PUBLISH
X-ORIGINAL-URL:https://thailandnaturist.com
X-WR-CALDESC:Events for Naturist Association Thailand
REFRESH-INTERVAL;VALUE=DURATION:PT1H
X-Robots-Tag:noindex
X-PUBLISHED-TTL:PT1H
BEGIN:VTIMEZONE
TZID:Asia/Bangkok
BEGIN:STANDARD
TZOFFSETFROM:+0700
TZOFFSETTO:+0700
TZNAME:+07
DTSTART:20230101T000000
END:STANDARD
END:VTIMEZONE
BEGIN:VEVENT
DTSTART;TZID=Asia/Bangkok:20241123T170000
DTEND;TZID=Asia/Bangkok:20241124T150000
DTSTAMP:20260424T081929
CREATED:20241115T054757Z
LAST-MODIFIED:20241115T054929Z
UID:10000409-1732381200-1732460400@thailandnaturist.com
SUMMARY:Beach Camping in Cha-Am
DESCRIPTION:The Camping weekend on Kaew Beach with BBQ and night walk will be held on Saturday 23 and Sunday 24  November 2024. For the first time on a Saturday and Sunday! Please check the Hua Hin/ Cha am group page for all the details. Here are a few photos to whet your appetite:
URL:https://thailandnaturist.com/event/beach-camping-in-cha-am-5/
LOCATION:Kaew Beach\, Kaew Beach\, Puek tian\, Tha Yang District\,\, Phetchburi\, Phetchaburi\, 76130\, Thailand
CATEGORIES:naturist events
ATTACH;FMTTYPE=image/jpeg:https://thailandnaturist.com/wp-content/uploads/2024/09/kaew.jpg
END:VEVENT
END:VCALENDAR