BEGIN:VCALENDAR
VERSION:2.0
PRODID:-//Naturist Association Thailand - ECPv6.15.18//NONSGML v1.0//EN
CALSCALE:GREGORIAN
METHOD:PUBLISH
X-ORIGINAL-URL:https://thailandnaturist.com
X-WR-CALDESC:Events for Naturist Association Thailand
REFRESH-INTERVAL;VALUE=DURATION:PT1H
X-Robots-Tag:noindex
X-PUBLISHED-TTL:PT1H
BEGIN:VTIMEZONE
TZID:Asia/Bangkok
BEGIN:STANDARD
TZOFFSETFROM:+0700
TZOFFSETTO:+0700
TZNAME:+07
DTSTART:20230101T000000
END:STANDARD
END:VTIMEZONE
BEGIN:VEVENT
DTSTART;TZID=Asia/Bangkok:20241027T000000
DTEND;TZID=Asia/Bangkok:20241027T150000
DTSTAMP:20260424T095716
CREATED:20240925T132644Z
LAST-MODIFIED:20241023T143037Z
UID:10000403-1729987200-1730041200@thailandnaturist.com
SUMMARY:Cancelled: Beach Camping in Cha-Am
DESCRIPTION:Cancelled: The next Kaew Beach BBQ Camping event will be held on October 26 and Sunday 27  . . yes\, that is for the first time on a Saturday and Sunday. Please check the Hua Hin/ Cha am group page for all the details. Here are a few photos to whet your appetite:
URL:https://thailandnaturist.com/event/beach-camping-in-cha-am-4/
LOCATION:Kaew Beach\, Kaew Beach\, Puek tian\, Tha Yang District\,\, Phetchburi\, Phetchaburi\, 76130\, Thailand
CATEGORIES:naturist events
ATTACH;FMTTYPE=image/jpeg:https://thailandnaturist.com/wp-content/uploads/2024/09/kaew.jpg
END:VEVENT
END:VCALENDAR