BEGIN:VCALENDAR
VERSION:2.0
PRODID:-//Naturist Association Thailand - ECPv6.15.18//NONSGML v1.0//EN
CALSCALE:GREGORIAN
METHOD:PUBLISH
X-WR-CALNAME:Naturist Association Thailand
X-ORIGINAL-URL:https://thailandnaturist.com
X-WR-CALDESC:Events for Naturist Association Thailand
REFRESH-INTERVAL;VALUE=DURATION:PT1H
X-Robots-Tag:noindex
X-PUBLISHED-TTL:PT1H
BEGIN:VTIMEZONE
TZID:Asia/Bangkok
BEGIN:STANDARD
TZOFFSETFROM:+0700
TZOFFSETTO:+0700
TZNAME:+07
DTSTART:20230101T000000
END:STANDARD
END:VTIMEZONE
BEGIN:VEVENT
DTSTART;TZID=Asia/Bangkok:20241019T170000
DTEND;TZID=Asia/Bangkok:20241019T200000
DTSTAMP:20260424T095719
CREATED:20241007T165609Z
LAST-MODIFIED:20241011T102156Z
UID:10000404-1729357200-1729368000@thailandnaturist.com
SUMMARY:Cooking Party with wine pairing - live and online!
DESCRIPTION:If you join this event\, you will be cooking with a professional chef 3 Thai traditional dishes. If you join the live event\, you will also learn wine pairing with these dishes. Buy tickets for the live event on this page. \nThe online version of the cooking party and wine pairing takes place on NATChat. See more and join here! (Click). \nFor the live event\, your ticket covers the ingredients below. For the online event\, participants need to buy and prepare in advance. \n \nIn both cases be ready at 17.00 (5 pm) Thai time (what time is that?) and the chef will instruct you how to cook the dishes. For the wine pairing you will be able to taste the options. If you want to buy wine for the dinner\, you can do so at your selection but that bottle is not included. Only the sip! \nDresscode: Naked. No towels! \nMembers only. (Apply for membership here)
URL:https://thailandnaturist.com/event/cooking-party-with-wine-pairing-live-and-online/
ATTACH;FMTTYPE=image/jpeg:https://thailandnaturist.com/wp-content/uploads/2022/07/nudechefs-scaled-e1728642091724.jpg
END:VEVENT
BEGIN:VEVENT
DTSTART;TZID=Asia/Bangkok:20241019T170000
DTEND;TZID=Asia/Bangkok:20241019T200000
DTSTAMP:20260424T095719
CREATED:20241007T181954Z
LAST-MODIFIED:20241008T084129Z
UID:10000342-1729357200-1729368000@thailandnaturist.com
SUMMARY:NATChat: Zoom Cooking Party
DESCRIPTION:This Saturday\, join the NAT Cooking Party on Zoom.\nJoin the online version of the Cooking Party and wine pairing at Barefeet Naturist Resort in Bangkok this Saturday.  \nBuy and prepare the ingredients for the 3 easy Thai dishes in advance.  \nShopping list:\n \nThen log in at 17.00 (5 pm) Thai time (what time is that?) and the chef will instruct you how to cook the dishes. \nDresscode: Naked. Ask silly questions. The NATChats are never recorded. \n\n\n\nHow to join?\nOnly members that are logged in on this website are able to see the link to the meeting\, the meeting ID and the Passcode here: \n[s2If current_user_can(access_s2member_level1)]\n \nTopic: Naked Zoom Chat \nJoin Zoom Meeting\nhttps://us02web.zoom.us/j/88574912168?pwd=https://us02web.zoom.us/j/88574912168?pwd=VjlpL0tSVXZvQjN6bHc3V3gwTTBFQT09 \nMeeting ID: 885 7491 2168\nPasscode: NAT69\n[/s2If] \nDon’t see anything? Membership can be bought in the NATShop. \nPS. The room remains open – but empty – 24/7. Members are welcome to make private meetings at other times.
URL:https://thailandnaturist.com/event/natchat-by-alan-friends-2/
CATEGORIES:naturist events
ATTACH;FMTTYPE=image/jpeg:https://thailandnaturist.com/wp-content/uploads/2022/07/nudechefs-scaled-e1728642091724.jpg
ORGANIZER;CN="Naturist Association Thailand":MAILTO:info@thailandnaturist.com
END:VEVENT
END:VCALENDAR