BEGIN:VCALENDAR
VERSION:2.0
PRODID:-//Naturist Association Thailand - ECPv6.15.18//NONSGML v1.0//EN
CALSCALE:GREGORIAN
METHOD:PUBLISH
X-WR-CALNAME:Naturist Association Thailand
X-ORIGINAL-URL:https://thailandnaturist.com
X-WR-CALDESC:Events for Naturist Association Thailand
REFRESH-INTERVAL;VALUE=DURATION:PT1H
X-Robots-Tag:noindex
X-PUBLISHED-TTL:PT1H
BEGIN:VTIMEZONE
TZID:Asia/Bangkok
BEGIN:STANDARD
TZOFFSETFROM:+0700
TZOFFSETTO:+0700
TZNAME:+07
DTSTART:20230101T000000
END:STANDARD
END:VTIMEZONE
BEGIN:VEVENT
DTSTART;VALUE=DATE:20240705
DTEND;VALUE=DATE:20240711
DTSTAMP:20260424T152418
CREATED:20240123T102759Z
LAST-MODIFIED:20240321T074032Z
UID:10000309-1720137600-1720655999@thailandnaturist.com
SUMMARY:Malaysia: International Event in July
DESCRIPTION:International Event in July \n@chew  writes: \nDear all\, \nI feel glad to receive a great response from you friends especially from Asia once I started to announce the trip. Due to the event is the initiative experience we only planned for 20. However\, your enthusiastic response has made us to extend for 30. The confirmed number has already reached 23. Kindly pm me for the reservation. It has only limited space left. \nOriginal invitation reads: \nIn July we will host a grand events with international naturists especially those who come from Taiwan made the majority to visit my country. The itineraries of visiting 3 states – Klang Valley\, Perak and Penang are almost confirmed from 5th to 14th. Kindly arrange your schedule since we still have ample time. If u don’t have the 10-Day leaves u can choose any days to slot in. There is one holy Land for naturists that everyone of us must visit. Sorry for no announcement at this moment for we need to be cautious. So plan your leaves early so that you are able to meet the genuine naturists from Asian countries (mostly). Don’t miss this opportunity. It will not come back second time. \n 
URL:https://thailandnaturist.com/event/malaysia-international-event-in-july/
END:VEVENT
BEGIN:VEVENT
DTSTART;TZID=Asia/Bangkok:20240706T170000
DTEND;TZID=Asia/Bangkok:20240706T200000
DTSTAMP:20260424T152418
CREATED:20240412T072543Z
LAST-MODIFIED:20240423T055308Z
UID:10000327-1720285200-1720296000@thailandnaturist.com
SUMMARY:NATChat
DESCRIPTION:The live NATChat on Zoom is back!\n\nRemember in early 2020 when the whole world closed down for Covid? It was going to be the end of the world as we know it. We were all stuck at home\, whole countries were locked down and no one could go anywhere? \nThen NAT started Zoom chat. Every Friday\, Saturday and Sunday night. We met people from all over the world\, Australia\, Canada\, India\, Europe\, England and Thailand. Some nights turned into a massive party and went on till the early hours of the morning. I have since met most of those people in person and we all regularly keep in touch. \nAt the suggestion of a few people\, we are going to bring Zoom back. Every Saturday night from 5-8pm Thai time we will have a moderator and anyone can join. You have to join to find out who is the host this Saturday. \nCome in this Saturday night between 5-8pm Thai time (what time is that?) and hopefully we can have some fun and a bit of a laugh. If you were a regular before it will be great to catch up again. You can say anything silly\, since the meetings are never recorded\, they only take place in real time. \n\n\n\n\nHow to join?\nOnly members that are logged in on this website are able to see the link to the meeting\, the meeting ID and the Passcode here: \n[s2If current_user_can(access_s2member_level1)]\n \nTopic: Naked Zoom Chat \nJoin Zoom Meeting\nhttps://us02web.zoom.us/j/88574912168?pwd=https://us02web.zoom.us/j/88574912168?pwd=VjlpL0tSVXZvQjN6bHc3V3gwTTBFQT09 \nMeeting ID: 885 7491 2168\nPasscode: NAT69\n[/s2If] \nDon’t see anything? Membership can be bought in the NATShop. \nPS. The room remains open – but empty – 24/7. Members are welcome to make private meetings.
URL:https://thailandnaturist.com/event/natchat-by-alan-friends/2024-07-06/
CATEGORIES:naturist events
ATTACH;FMTTYPE=image/jpeg:https://thailandnaturist.com/wp-content/uploads/2024/04/online-chat.jpg
ORGANIZER;CN="Naturist Association Thailand":MAILTO:info@thailandnaturist.com
END:VEVENT
END:VCALENDAR