BEGIN:VCALENDAR
VERSION:2.0
PRODID:-//Naturist Association Thailand - ECPv6.15.18//NONSGML v1.0//EN
CALSCALE:GREGORIAN
METHOD:PUBLISH
X-ORIGINAL-URL:https://thailandnaturist.com
X-WR-CALDESC:Events for Naturist Association Thailand
REFRESH-INTERVAL;VALUE=DURATION:PT1H
X-Robots-Tag:noindex
X-PUBLISHED-TTL:PT1H
BEGIN:VTIMEZONE
TZID:Asia/Bangkok
BEGIN:STANDARD
TZOFFSETFROM:+0700
TZOFFSETTO:+0700
TZNAME:+07
DTSTART:20230101T000000
END:STANDARD
END:VTIMEZONE
BEGIN:VEVENT
DTSTART;TZID=Asia/Bangkok:20240402T080000
DTEND;TZID=Asia/Bangkok:20240629T170000
DTSTAMP:20260424T214124
CREATED:20240403T065901Z
LAST-MODIFIED:20240403T065901Z
UID:10000315-1712044800-1719680400@thailandnaturist.com
SUMMARY:Phuket: Naturist Beaches & Island Trip by Speed Boat
DESCRIPTION:Naturist Beaches And Island Trip By Speed Boat \nProgram 10.00 – 16.00 hrs.\n10.00 Leave from the Peace Blue resort\n10.30 – 12.00 Enjoy swimming and snorkeling\n12.00 – 13.00 Lunch serving\n13.00 – 14.30 Relaxing time on the beaches\n14.30 – 15.30 Water activities\n16.00 Arrive to resort \nIncluded:\n1. Speed boat and round trip transfer\n2. Lunch & Skewer on the grills\n3. Seasonal Fruits\n4. Soft Drinks\n5. Snorkeling and Life jacket\n6. Tour Guide \nExcluded:\n1. Alcoholic Drinks\n2. Additional transfer route apart from Peace Blue Resort \n  \nBook at: reservation@peaceblueresortphuket.com\nCall & Whatsapp: +66 61 5394965 \nVisit Peace Blue Resort website for more information.
URL:https://thailandnaturist.com/event/phuket-naturist-beaches-island-trip-by-speed-boat/
LOCATION:Peace Blue Naiharn Naturist Resort\, Phuket\, Peace Blue Naiharn Naturist Resort Phuket\, 69 93 Soi Kokyang\, Rawai\, Mueang Phuket District\, Phuket\, Phuket\, 83100\, Thailand
CATEGORIES:naturist events
ATTACH;FMTTYPE=image/jpeg:https://thailandnaturist.com/wp-content/uploads/2023/12/2023-11-20-23-27-52-803b8-scaled.jpeg
ORGANIZER;CN="Peace Blue Naiharn Naturist Resort Phuket":MAILTO:info@peaceblueresortphuket.com
GEO:7.7909828;98.3192316
X-APPLE-STRUCTURED-LOCATION;VALUE=URI;X-ADDRESS=Peace Blue Naiharn Naturist Resort Phuket Peace Blue Naiharn Naturist Resort Phuket 69 93 Soi Kokyang Rawai Mueang Phuket District Phuket Phuket 83100 Thailand;X-APPLE-RADIUS=500;X-TITLE=Peace Blue Naiharn Naturist Resort Phuket\, 69 93 Soi Kokyang\, Rawai\, Mueang Phuket District:geo:98.3192316,7.7909828
END:VEVENT
BEGIN:VEVENT
DTSTART;VALUE=DATE:20240503
DTEND;VALUE=DATE:20240506
DTSTAMP:20260424T214124
CREATED:20231221T032835Z
LAST-MODIFIED:20240423T055745Z
UID:10000286-1714694400-1714953599@thailandnaturist.com
SUMMARY:NATCON '24 - from Friday to Sunday 3-5 May 2024
DESCRIPTION:NATCON’24 starts Friday 3 May 2024 – and ends Sunday 5 May 2024. With an option to come one day early and leave one day after.\nNATCON’24将于2024年5月3日（星期五）至5月5日（星期日）举办，地点是泰国罗勇府Ban Chang的Purimas Hotel and Spa。 \nSee update and make a reservation here!\n请点击这里获取 更多资讯\nNATCON is all about getting together with other health and wellness minded people who appreciate our naked lifestyle in all its splendour and variations. It is focused on having fun\, being naked together 24 hours a day\, making a lot of new naturist friends! \nWe also have a serious part about exchanging views on how to better enjoy a naturist life\, how we can improve our mission and consolidate and secure naturism as a totally legal\, healthy lifestyle not just in Thailand but in all of Asia. Our vision is a world where everyone can live in freedom\, with or without clothing\, with respect for each other and for the environment. A world where the human right to be naked is protected and accepted. \nProgram\nSame concept .. well\, almost.\nThe concept of the NATCON weekend has remained the same since the first NATCON back in 2012. It remains the only conference in Asia\, where all the paticipants will be naked all the time from they get up to have breakfast\, throughout the games and workshops of the day until the party late into the smooth tropical nights of Friday and Saturday. \nGames during the day includes the legendary egg throw\, yellow duck race\, body painting. Workshops will include yoga\, meditation\, discussion rounds on frequently asked questions like how to be more open to friends and family about being a naturist\, how to include your children in your lifestyle. and above all you will make friends with naturists from around the region. \nBut… \nEvery year we have added new features. We will also do that in 2024. Eventually\, we will release the detailed program. Sign up as RSVP to be the first to know when we have news – and be the first we ask if we have questions.
URL:https://thailandnaturist.com/event/natcon-2024-from-friday-3-to-mon-6-may-2024-2/
ATTACH;FMTTYPE=image/jpeg:https://thailandnaturist.com/wp-content/uploads/2023/05/รูปภาพจาก-NATCON-23-scaled.jpg
ORGANIZER;CN="Naturist Association Thailand":MAILTO:info@thailandnaturist.com
END:VEVENT
END:VCALENDAR